BEGIN:VCALENDAR
VERSION:2.0
PRODID:-//ChamberMaster//Event Calendar 2.0//EN
METHOD:PUBLISH
X-PUBLISHED-TTL:P3D
REFRESH-INTERVAL:P3D
CALSCALE:GREGORIAN
BEGIN:VEVENT
DTSTART:20260313T120000Z
DTEND:20260313T130000Z
X-MICROSOFT-CDO-ALLDAYEVENT:FALSE
SUMMARY:REP/MCSAAC Committee
DESCRIPTION:
X-ALT-DESC;FMTTYPE=text/html:
LOCATION:Meeting held via Zoom
UID:e.1932.34922
SEQUENCE:3
DTSTAMP:20260424T115909Z
URL:https://business.middlesexchamber.com/events/details/rep-mcsaac-committee-34922
END:VEVENT

END:VCALENDAR
