BEGIN:VCALENDAR
VERSION:2.0
PRODID:-//ChamberMaster//Event Calendar 2.0//EN
METHOD:PUBLISH
X-PUBLISHED-TTL:P3D
REFRESH-INTERVAL:P3D
CALSCALE:GREGORIAN
BEGIN:VEVENT
DTSTART:20260315T150000Z
DTEND:20260315T190000Z
X-MICROSOFT-CDO-ALLDAYEVENT:FALSE
SUMMARY:Refill the Future at Reboot Eco\, Middletown
DESCRIPTION:World Consumer Rights Day: celebrating informed choices\, consumer power\, and everyday actions that protect our planet and shape the future.\n\n\n\nWe're celebrating the launch of A Kid's Guide to Economic Activism for the Climate\, the newest book by local Farmington\, CT author Kimberly Haidinger and her teenage daughter and illustrator\, Luna Hansen. This middle-grade nonfiction book (perfect for grades 5 8 and written for generations to share) introduces essential economics vocabulary and empowers readers to understand how spending money is not just shopping\, it's shaping the future of our planet.\n\n\n\nThis is a drop-in celebration - free and open to all - stop by anytime between 11:00 AM and 3:00 PM. Fun for the whole family! \n\n	Refreshments & Goodies\n	Free Kids' eco craft activity led by Luna Hansen\n	Book signing and conversation with the author\n	Introduction to refill shopping\n	Plenty of sustainability-focused discussions and community connection\n\n\n\nJoin us on World Consumer Rights Day as we come together to celebrate the power of informed consumers\, the health of our planet\, and the future we can shape with our everyday choices.\n\n\n\nHosted at Reboot Eco\, Middletown CT's beloved refillery\, this special event invites you to explore how small shifts in our shopping habits can make a meaningful environmental impact.\n\n\n\nCome ready to stock up on your favorite package-free products\, learn how refill shopping works\, and discover simple ways to reduce waste at home.\n\n\n\nLet's honor our right to safe\, responsible products - and refill the future together.
X-ALT-DESC;FMTTYPE=text/html:<span style="font-size:18px\;">World Consumer Rights Day: celebrating informed choices\, consumer power\, and everyday actions that protect our planet and shape the future.<br />\n<br />\nWe&rsquo\;re celebrating the launch of A Kid&rsquo\;s Guide to Economic Activism for the Climate\, the newest book by local Farmington\, CT author Kimberly Haidinger and her teenage daughter and illustrator\, Luna Hansen. This middle-grade nonfiction book (perfect for grades 5&ndash\;8 and written for generations to share) introduces essential economics vocabulary and empowers readers to understand how spending money is not just shopping\, it&#39\;s shaping the future of our planet.<br />\n<br />\nThis is a drop-in celebration - free and open to all - stop by anytime between 11:00 AM and 3:00 PM. Fun for the whole family!&nbsp\;</span>\n<ul>\n	<li><span style="font-size:18px\;">Refreshments &amp\; Goodies</span></li>\n	<li><span style="font-size:18px\;">Free Kids&rsquo\; eco craft activity led by Luna Hansen</span></li>\n	<li><span style="font-size:18px\;">Book signing and conversation with the author</span></li>\n	<li><span style="font-size:18px\;">Introduction to refill shopping</span></li>\n	<li><span style="font-size:18px\;">Plenty of sustainability-focused discussions and community connection</span></li>\n</ul>\n<br />\n<span style="font-size:18px\;">Join us on World Consumer Rights Day as we come together to celebrate the power of informed consumers\, the health of our planet\, and the future we can shape with our everyday choices.<br />\n<br />\nHosted at Reboot Eco\, Middletown CT&rsquo\;s beloved refillery\, this special event invites you to explore how small shifts in our shopping habits can make a meaningful environmental impact.<br />\n<br />\nCome ready to stock up on your favorite package-free products\, learn how refill shopping works\, and discover simple ways to reduce waste at home.<br />\n<br />\nLet&rsquo\;s honor our right to safe\, responsible products - and refill the future together.</span>
LOCATION:Reboot Eco 1 31 River Road Middletown\, CT 06457
UID:e.1932.34921
SEQUENCE:3
DTSTAMP:20260424T131955Z
URL:https://business.middlesexchamber.com/events/details/refill-the-future-at-reboot-eco-middletown-34921
END:VEVENT

END:VCALENDAR
