BEGIN:VCALENDAR
VERSION:2.0
PRODID:-//ChamberMaster//Event Calendar 2.0//EN
METHOD:PUBLISH
X-PUBLISHED-TTL:P3D
REFRESH-INTERVAL:P3D
CALSCALE:GREGORIAN
BEGIN:VEVENT
DTSTART:20201015T120000Z
DTEND:20201015T130000Z
X-MICROSOFT-CDO-ALLDAYEVENT:FALSE
SUMMARY:Recovery Employment Program Steering Committee
DESCRIPTION:
X-ALT-DESC;FMTTYPE=text/html:
LOCATION:Meeting conducted via Zoom. Dial in by phone or join with your computer.
UID:e.1932.19533
SEQUENCE:3
DTSTAMP:20260421T033135Z
URL:https://business.middlesexchamber.com/events/details/recovery-employment-program-steering-committee-19533
END:VEVENT

END:VCALENDAR
