BEGIN:VCALENDAR
VERSION:2.0
PRODID:-//ChamberMaster//Event Calendar 2.0//EN
METHOD:PUBLISH
X-PUBLISHED-TTL:P3D
REFRESH-INTERVAL:P3D
CALSCALE:GREGORIAN
BEGIN:VEVENT
DTSTART:20260430T200000Z
DTEND:20260430T220000Z
X-MICROSOFT-CDO-ALLDAYEVENT:FALSE
SUMMARY:Real Estate Council presents "Business Unplugged"
DESCRIPTION:The Middlesex Chamber Real Estate Council is launching a new networking series "Business Unplugged" a relaxed\, after-work gathering designed to bring real estate professionals together to connect\, share ideas\, and build relationships outside the office.\n\n\n\nWhile Realtors are at the heart of this series\, the event is open to everyone who works in or supports the real estate industry   including builders\, lenders\, insurance professionals\, inspectors\, attorneys\, engineers\, architects\, and more. This is a great opportunity for all industry partners to come together and build meaningful connections.\n\nJoin us for the first Business Unplugged on Thursday\, April 30th from 4 PM to 6 PM hosted at Wendel Architecture/Engineering\, 213 Court Street Suite 502\, in Middletown\, featuring a brief welcome from our host followed by a cocktail hour with beer\, wine\, and charcuterie.\n\nBest of all\, these events are free for Realtors to attend\, making it easy to stop by\, meet colleagues\, and grow your network.
X-ALT-DESC;FMTTYPE=text/html:<p class="xmsonormal">The <b>Middlesex Chamber Real Estate Council</b> is launching a new networking series &ldquo\;<b>Business Unplugged&rdquo\; </b>a relaxed\, after-work gathering designed to bring real estate professionals together to connect\, share ideas\, and build relationships outside the office.<br />\n<br />\n<strong>While Realtors are at the heart of this series\, the event is open to everyone who works in or supports the real estate industry &mdash\; including builders\, lenders\, insurance professionals\, inspectors\, attorneys\, engineers\, architects\, and more. This is a great opportunity for all industry partners to come together and build meaningful connections.</strong></p>\n\n<p class="xmsonormal">Join us for the first Business Unplugged on <b>Thursday\, April 30th</b> from <b>4 PM to 6 PM</b>&nbsp\;hosted at <a href="https://wendelcompanies.com/">Wendel Architecture/Engineering</a>\, 213 Court Street Suite 502\, in Middletown\, featuring a brief welcome from our host followed by a cocktail hour with beer\, wine\, and charcuterie.</p>\n\n<p class="xmsonormal">Best&nbsp\;of all\, these events are free for Realtors to attend\, making it easy to stop by\, meet colleagues\, and grow your network.</p>\n
LOCATION:Wendel Architecture/Engineering 213 Court Street\, Suite 502 Middletown\, CT\, 06457
UID:e.1932.35010
SEQUENCE:3
DTSTAMP:20260424T170710Z
URL:https://business.middlesexchamber.com/events/details/real-estate-council-presents-business-unplugged-35010
END:VEVENT

END:VCALENDAR
