BEGIN:VCALENDAR
VERSION:2.0
PRODID:-//ChamberMaster//Event Calendar 2.0//EN
METHOD:PUBLISH
X-PUBLISHED-TTL:P3D
REFRESH-INTERVAL:P3D
CALSCALE:GREGORIAN
BEGIN:VEVENT
DTSTART:20260319T153000Z
DTEND:20260319T170000Z
X-MICROSOFT-CDO-ALLDAYEVENT:FALSE
SUMMARY:Real Estate Council Lunch & Learn "CT Homeowners Insurance Market"
DESCRIPTION:3 Main Topics on Homeowner's Insurance\n\n \n\nJoin us for a lunch and learn at Liberty Bank presenting on topics affecting the homeowner's insurance market presented by Caleb Carney from State Farm Insurance.\n\n	Connecticut Department of Insurance guidelines\, including coastal restrictions & dwindling number of homeowners insurance carriers.\n	The rising cost of construction and how that's affecting overall premiums\n	The extensive underwriting and re-underwriting of properties with a concentration on roofs.\n\nLunch will be provided. Many thanks to Liberty Bank for their sponsorship of this Lunch & Learn.
X-ALT-DESC;FMTTYPE=text/html:3 Main Topics on Homeowner&rsquo\;s Insurance<br />\n&nbsp\;<br />\nJoin us for a lunch and learn at Liberty Bank presenting on topics affecting the homeowner&rsquo\;s insurance market presented by Caleb Carney from State Farm Insurance.\n<ul>\n	<li>Connecticut Department of Insurance guidelines\, including coastal restrictions &amp\; dwindling number of homeowners insurance carriers.</li>\n	<li>The rising cost of construction and how that&#39\;s affecting overall premiums</li>\n	<li>The extensive underwriting and re-underwriting of properties with a concentration on roofs.</li>\n</ul>\nLunch will be provided. Many thanks to Liberty Bank for their sponsorship of this Lunch &amp\; Learn.
LOCATION:Liberty Bank 291 Main Street Middletown\, CT
UID:e.1932.34923
SEQUENCE:3
DTSTAMP:20260424T120017Z
URL:https://business.middlesexchamber.com/events/details/real-estate-council-lunch-learn-ct-homeowners-insurance-market-34923
END:VEVENT

END:VCALENDAR
