BEGIN:VCALENDAR
VERSION:2.0
PRODID:-//ChamberMaster//Event Calendar 2.0//EN
METHOD:PUBLISH
X-PUBLISHED-TTL:P3D
REFRESH-INTERVAL:P3D
CALSCALE:GREGORIAN
BEGIN:VEVENT
DTSTART:20201001T150000Z
DTEND:20201001T160000Z
X-MICROSOFT-CDO-ALLDAYEVENT:FALSE
SUMMARY:Real Estate Council
DESCRIPTION:
X-ALT-DESC;FMTTYPE=text/html:
LOCATION:Meeting conducted via Zoom. Dial in by phone or join with computer.
UID:e.1932.19516
SEQUENCE:3
DTSTAMP:20260421T044359Z
URL:https://business.middlesexchamber.com/events/details/real-estate-council-19516
END:VEVENT

END:VCALENDAR
