BEGIN:VCALENDAR
VERSION:2.0
PRODID:-//ChamberMaster//Event Calendar 2.0//EN
METHOD:PUBLISH
X-PUBLISHED-TTL:P3D
REFRESH-INTERVAL:P3D
CALSCALE:GREGORIAN
BEGIN:VEVENT
DTSTART:20250904T150000Z
DTEND:20250904T160000Z
X-MICROSOFT-CDO-ALLDAYEVENT:FALSE
SUMMARY:Real Estate Council
DESCRIPTION:The Real Estate Council\, under the leadership of Nancy Currlin and Juliet Cavanaugh\, create an atmosphere for local realtors to come together for networking\, encouraging cooperation\, sharing ideas\, improving business relations through collaboration\, and educational experiences. The council consists of 24 members throughout the county who meet monthly. The main objectives include: continuing education for real estate renewal licenses\, promotion of the real estate industry\, legislation  and referrals to the Chamber's Legislative Committee.
X-ALT-DESC;FMTTYPE=text/html:The Real Estate Council\, under the leadership of Nancy Currlin and Juliet Cavanaugh\, create an atmosphere for local realtors to come together for networking\, encouraging cooperation\, sharing ideas\, improving business relations through collaboration\, and educational experiences. The council consists of 24 members throughout the county who meet monthly. The main objectives include: continuing education for real estate renewal licenses\, promotion of the real estate industry\, legislation&nbsp\; and referrals to the Chamber&rsquo\;s Legislative Committee.<br />\n&nbsp\;
LOCATION:Liberty Bank 291 Main Street Middletown\, CT
UID:e.1932.30282
SEQUENCE:3
DTSTAMP:20260424T224443Z
URL:https://business.middlesexchamber.com/events/details/real-estate-council-09-04-2025-30282
END:VEVENT

END:VCALENDAR
