BEGIN:VCALENDAR
VERSION:2.0
PRODID:-//ChamberMaster//Event Calendar 2.0//EN
METHOD:PUBLISH
X-PUBLISHED-TTL:P3D
REFRESH-INTERVAL:P3D
CALSCALE:GREGORIAN
BEGIN:VEVENT
DTSTART:20251030T130000Z
DTEND:20251030T160000Z
X-MICROSOFT-CDO-ALLDAYEVENT:FALSE
SUMMARY:Real Estate CE Class "Fair Housing"
DESCRIPTION:**Special thanks to Val Votto for generously donating her time and expertise to teach these continuing education classes. We'd also like to thank Liberty Bank for graciously sponsoring lunch for individuals who register for both classes. Course is offered through New Haven Middlesex Real Estate School**\n\n\n\nInstructor: Attorney Valerie Votto - Valerie Ann Votto\, LLC - Attorney at Law\n\n \n\n3 elective CE Credits & meets the NAR Fair Housing Mandate\n\n \n\nThis course satisfies the NAR Fair Housing mandate.\n\n \n\nThis class meets the minimum requirements set forth by the CT Department of Consumer Protection & the Real Estate Commission.\n\n \n\nElective course earns students three credits toward the 2024-2026 CE renewal\n\n \n\nMeets the NAR Fair Housing Requirement for Cycle 8 (1/1/25-12/31/27)\n\n \n\nPlease have payment and Real Estate License Number ready when registering
X-ALT-DESC;FMTTYPE=text/html:<strong data-end="200" data-start="77">**Special thanks to Val Votto for generously donating her time and expertise to teach these continuing education classes.&nbsp\;</strong>We&rsquo\;d also like to thank <strong data-end="275" data-start="227">Liberty Bank for graciously sponsoring lunch</strong> for individuals who register for both classes. Course is offered through <strong>New Haven Middlesex Real Estate School</strong>**<br />\n<br />\n<span style="color:#000000\;">Instructor: Attorney Valerie Votto - Valerie Ann Votto\, LLC - Attorney at Law<br />\n&nbsp\;<br />\n3 elective CE Credits &amp\; meets the NAR Fair Housing Mandate<br />\n&nbsp\;<br />\nThis course satisfies the NAR Fair Housing mandate.<br />\n&nbsp\;<br />\nThis class meets the minimum requirements set forth by the CT Department of Consumer Protection &amp\; the Real Estate Commission.<br />\n&nbsp\;<br />\nElective course earns students three credits toward the 2024-2026 CE renewal<br />\n&nbsp\;<br />\nMeets the NAR Fair Housing Requirement for Cycle 8 (1/1/25-12/31/27)<br />\n&nbsp\;<br />\n<strong><u>Please have payment and Real Estate License Number ready when registering</u></strong></span>
LOCATION:Liberty Bank HQ 245 Long Hill Road Middletown\, CT
UID:e.1932.33921
SEQUENCE:3
DTSTAMP:20260424T213240Z
URL:https://business.middlesexchamber.com/events/details/real-estate-ce-class-fair-housing-33921
END:VEVENT

END:VCALENDAR
