BEGIN:VCALENDAR
VERSION:2.0
PRODID:-//ChamberMaster//Event Calendar 2.0//EN
METHOD:PUBLISH
X-PUBLISHED-TTL:P3D
REFRESH-INTERVAL:P3D
CALSCALE:GREGORIAN
BEGIN:VEVENT
DTSTART:20251030T170000Z
DTEND:20251030T200000Z
X-MICROSOFT-CDO-ALLDAYEVENT:FALSE
SUMMARY:Real Estate CE Class "Code of Ethics: Our Promise of Professionalism"
DESCRIPTION:**Special thanks to Val Votto for generously donating her time and expertise to teach these continuing education classes. We'd also like to thank Liberty Bank for graciously sponsoring lunch for individuals who register for both classes. Course is offered through New Haven Middlesex Real Estate School**\n\n\n\nInstructor: Attorney Valerie Votto - Valerie Ann Votto\, LLC - Attorney at Law\n\n \n\nUpon completion of The Code of Ethics: Our Promise of Professionalism course\, participants will be able to:\n\n \n\n	Identify key aspirational concepts found in the Preamble to the NATIONAL ASSOCIATION OF REALTORS  Code of Ethics\n	Describe general business ethics\, and compare and contrast the REALTORS Code of Ethics with business ethics\, generally\n	Describe the concepts established in Articles 1\, 2\, 3\, 11\, and 16 of the Code of Ethics and identify possible violations of the Code of Ethics specifically related to those Articles\n	Describe the professional standards process for enforcing the Code of Ethics\, including the duty to arbitrate\n	Identify critical elements of due process as they relate to Code enforcement\n	Identify how the Code of Ethics should be used in daily business practices.\n\nEarn 3 elective CE credits with this class\, Satisfies NAR Ethics Cycle 8 mandate 1/1/25-12/31/27\n\n \n\nElective course earns students three credits toward the 2024-2026 CE renewal\n\n \n\nDCP Approved 7/19/23-7/19/28\n\n\n\nPlease have payment and Real Estate License Number ready when registering
X-ALT-DESC;FMTTYPE=text/html:<strong data-end="200" data-start="77">**Special thanks to Val Votto for generously donating her time and expertise to teach these continuing education classes.&nbsp\;</strong>We&rsquo\;d also like to thank&nbsp\;<strong data-end="275" data-start="227">Liberty Bank for graciously sponsoring lunch</strong>&nbsp\;for individuals who register for both classes. Course is offered through&nbsp\;<strong>New Haven Middlesex Real Estate School</strong>**<br />\n<br />\n<span style="color:#000000\;">Instructor: Attorney Valerie Votto - Valerie Ann Votto\, LLC - Attorney at Law<br />\n&nbsp\;<br />\nUpon completion of The Code of Ethics: Our Promise of Professionalism course\, participants will be able to:<br />\n&nbsp\;</span>\n<ul>\n	<li><span style="color:#000000\;">Identify key aspirational concepts found in the Preamble to the NATIONAL ASSOCIATION OF REALTORS&reg\; Code of Ethics</span></li>\n	<li><span style="color:#000000\;">Describe general business ethics\, and compare and contrast the REALTORS Code of Ethics with business ethics\, generally</span></li>\n	<li><span style="color:#000000\;">Describe the concepts established in Articles 1\, 2\, 3\, 11\, and 16 of the Code of Ethics and identify possible violations of the Code of Ethics specifically related to those Articles</span></li>\n	<li><span style="color:#000000\;">Describe the professional standards process for enforcing the Code of Ethics\, including the duty to arbitrate</span></li>\n	<li><span style="color:#000000\;">Identify critical elements of due process as they relate to Code enforcement</span></li>\n	<li><span style="color:#000000\;">Identify how the Code of Ethics should be used in daily business practices.</span></li>\n</ul>\n<span style="color:#000000\;">Earn 3 elective CE credits with this class\, Satisfies NAR Ethics Cycle 8 mandate 1/1/25-12/31/27<br />\n&nbsp\;<br />\nElective course earns students three credits toward the 2024-2026 CE renewal<br />\n&nbsp\;<br />\nDCP Approved 7/19/23-7/19/28<br />\n<br />\n<strong><u>Please have payment and Real Estate License Number ready when registering</u></strong></span>
LOCATION:Liberty Bank HQ 245 Long Hill Road Middletown\, CT
UID:e.1932.33922
SEQUENCE:3
DTSTAMP:20260424T213429Z
URL:https://business.middlesexchamber.com/events/details/real-estate-ce-class-code-of-ethics-our-promise-of-professionalism-33922
END:VEVENT

END:VCALENDAR
