BEGIN:VCALENDAR
VERSION:2.0
PRODID:-//ChamberMaster//Event Calendar 2.0//EN
METHOD:PUBLISH
X-PUBLISHED-TTL:P3D
REFRESH-INTERVAL:P3D
CALSCALE:GREGORIAN
BEGIN:VEVENT
DTSTART:20230513T103000Z
DTEND:20230513T170000Z
X-MICROSOFT-CDO-ALLDAYEVENT:FALSE
SUMMARY:Race In The Park
DESCRIPTION:JOIN THE RACE. JOIN THE CAUSE.\n\n#CTHopeInAction The CT RACE IN THE PARK returns in-person to beautiful Walnut Hill Park this Mother's Day Weekend.  The beloved annual tradition is back and better than ever!  Participants can support this great cause and be a part of the action by choosing from the 5K Run or the 4K/1 Mile Walk.\n\n*Kids are encouraged to get in on the action too and sign up for the Kids Fun Run.\n\n\n\n-OR- Sign up for the Virtual 5k and Run/walk a 5K at your leisure and at your desired location May 12th   May 14th\, post your race time and compete with supporters from around the world!\n\n \n\nSign up to join The RACE\, pledge support or become a valuable sponsor and join thousands in honoring survivors\, remembering loved ones\, celebrating life and most importantly\, raising much needed funds to advance the fight against breast cancer in Connecticut.\n\n\n\nAs always: 100% raised in Connecticut. 100% stays in Connecticut. Join The RACE. Join the cause\n\n\n\nREGISTRATION:\n\nRegister for the CT RACE IN THE PARK to get moving and support a great cause!  Choose from the following events to be a part of this amazing event:\n\n	5K Run - DETAILS\n	4K / 1 Mile Walk - DETAILS\n	Kids Fun Runs - DETAILS\n	Virtual 5K Run / Walk - DETAILS\n\nBENEFITS:\n\n\n	Official RACE T-shirt\n	Support the great work of the CT Breast Health Initiative!\n	All survivors will receive a special pink edition of the shirt\, exclusive survivor finisher medal\, and are welcome to join the Survivor Breakfast event!\n\nREGISTRATION HELP:\n\nFirst time registering?  No problem!  For a step by step guide\, CLICK HERE\n\nThe CT Breast Health Initiative is proud to be partnering with the Hartford Marathon Foundation this year to bring you registration for the CT RACE IN THE PARK.\n\nIf you are having trouble registering online and need immediate assistance\, you may contact support@hakusports.com or by phone\, 844-299-2087\, Monday-Friday between the hours of 9:00 AM and 6:00 PM Eastern Standard Time. Or\, you may send an email to registration@hartfordmarathon.com and a staff person will provide assistance by reply email.\n\n\n\nParticipants can confirm they have registered by logging into their HAKU PARTICIPANT ACCOUNT. \n\nTo begin\, input the email address used at the time of registration. Once logged-in\, you can view your upcoming events\, suggested events\, and\, if applicable\, change events and manage or view teams and others that you've registered.\n\nNote: If you have any questions\, click the "we are online" popup in the bottom right corner\, or the question mark icon in the top right corner.\n\n\n\nPACKET PICKUP:\n\nAll participants must show a Photo ID to pick up their packets (parent/guardian of minors must show ID).\n\n\n\nFriday\, May 12 (Day Before RACE): 12 PM to 6 PM\, Walnut Hill Park\, New Britain\, CT\n\nSaturday\, May 13 (RACE Day): 6:30 AM to 10 AM\, Walnut Hill Park\, New Britain\, CT\n\n\n\n  Online and in-person registration remains open until 30 minutes before each specific event starts\n\n\n\nNote: To designate someone to pick up another runner's event packet\, the designee must bring or show a copy of this signed waiver/permission slip. Photocopies or phone pictures of the form will be accepted.\n\n\n\nUPGRADES:\n\nSURVIVOR BREAKFAST GUEST TICKETS:\n\nRegistered survivors for the CT RACE IN THE PARK now have the option to bring a guest to the Survivor breakfast with them\, for just $15 (per guest)!\n\n\n\nMAIL MY PACKET:\n\nFor the convenience of runners who plan to come to New Britain on Saturday only\, the mail my packet option is available during online registration for $20 per packet and must be reserved by April 16\, 2023. If you purchase my packet\, you can expect to receive your packet by May 8th.\n\n\n\nIf you are interested in any of the above listed upgrades\, use the following steps to add them to your event day experience:\n\n  Select those that apply during the registration process\n\n  OR\, after you've registered for the event by logging in to your HAKU PARTICIPANT ACCOUNT\n\n\n\nREFUND PROTECTION:\n\nRefund Protection is available for purchase at the time of registration only.\n\nPlease note that refundable booking claims will be administered by the Protect Group\, not by the Hartford Marathon Foundation or Connecticut Breast Health Initiative.  If opting to add refund protection during event registration\, participants pay an additional service fee of 14% of all items purchased\, excluding event processing fees. Registered participants who have purchased refund protection and are unable to participate in the race for a wide range of covered scenarios will receive a 100% refund of their entry fee and ancillary purchases within 10 business days of the claim submission.\n\nFor information on what is covered and no covered by refund protection booking\, click here.\n\n\n\nRACE DAY MERCHANDISE:\n\nFor even more ways to upgrade your CT RACE IN THE PARK experience\, visit the Merchandise tent race day and check out the selection!\n\n\n\nSCHEDULE:\n\nFRIDAY\, MAY 12th\, 2023:\n\n\n	12:00 PM   6:00 pm:  Registration\, bib number\, T-shirt pickup\n\nSATURDAY\, MAY 13th\, 2023:\n\n\n	6:30 am: Buses Start Transporting from the garages\n	6:30 am: Registration\, Bib number\, T-shirt pickup\n	7:45 - 9:00 am:   Survivor Breakfast\n	8:00 am:\n	\n		Silent Auction/Raffle Tent Open\n		Food Trucks Open\n	\n	\n	8:30 am:  Kids Fun Runs (1 Mile / age races)\n	9:00 am:  Survivor Photo\n	9:15 am:  Female & Male 5K Run\n	10:00 am: 5K Awards Ceremony (at Awards Tent)\n	10:00 am: Beer Garden Opens\n	10:30 am:  1 Mile Walk & 4K Walk\n	11:00 am:  Silent Auction/Raffle Tent Closes\n	1:00 pm:  Last Shuttle\n\nPARKING & BUS TRANSPORTATION:\n\nPre/Post-race activities\, as well as race start & finish will take place in and around Walnut Hill Park in New Britain\, Connecticut.\n\nCLICK HERE for directions\n\n\n\nAthlete parking is available at:\n\n\n	Courthouse (Linda Blogoslawski) Parking Garage - 25 Washington St\, New Britain\, CT\n	John N. Badolato Parking Garage - Liberty Square\, New Britain\, CT\n\nNote: Carpooling encouraged.  Use the garages above\, parking at and around Walnut Hill Park is very limited. \n\n\n\nSHUTTLE BUS TRANSPORTATION:\n\nComplimentary shuttle bus transportation from the above-mentioned parking garages to Walnut Hill Park will be available on race day for all registered participants. The shuttle bus transportation will drop off and pick up participants adjacent to the Walnut Hill Park Bandshell\, on Grand Street.\n\n\n	6:30 AM: Shuttle services begins\n	1:00 PM: Shuttle services ends
X-ALT-DESC;FMTTYPE=text/html:<strong><span style="color:#333333\;"><span style="font-family:tahoma\,sans-serif\;"><span style="font-size:10.0pt\;">JOIN THE RACE. JOIN THE CAUSE.</span></span></span></strong><br />\n<strong><span style="color:#D86A9A\;"><span style="font-family:tahoma\,sans-serif\;"><span style="font-size:10.0pt\;">#CTHopeInAction</span></span></span></strong><span style="color:#355732\;"><span style="font-family:tahoma\,sans-serif\;"><span style="font-size:10.0pt\;">&nbsp\;The CT RACE IN THE PARK returns in-person to beautiful Walnut Hill Park this Mother&rsquo\;s Day Weekend.&nbsp\; The beloved annual tradition is back and better than ever!&nbsp\; Participants can support this great cause and be a part of the action by choosing from the 5K Run or the 4K/1 Mile Walk.<br />\n*Kids are encouraged to get in on the action too and sign up for the Kids Fun Run.<br />\n<br />\n<strong>-OR-</strong>&nbsp\;Sign up for the Virtual 5k and Run/walk a 5K at your leisure and at your desired location May 12th &ndash\; May 14th\, post your race time and compete with supporters from around the world!<br />\n&nbsp\;<br />\nSign up to join The RACE\, pledge support or become a valuable sponsor and join thousands in honoring survivors\, remembering loved ones\, celebrating life and most importantly\, raising much needed funds to advance the fight against breast cancer in Connecticut.<br />\n<br />\n<strong>As always: 100% raised in Connecticut. 100% stays in Connecticut. Join The RACE. Join the cause</strong></span></span></span><br />\n<br />\n<strong><span style="color:#333333\;"><span style="font-family:tahoma\,sans-serif\;"><span style="font-size:10.0pt\;">REGISTRATION:</span></span></span></strong><br />\n<span style="color:#355732\;"><span style="font-family:tahoma\,sans-serif\;"><span style="font-size:10.0pt\;">Register for the CT RACE IN THE PARK to get moving and support a great cause!&nbsp\; Choose from the following events to be a part of this amazing event:</span></span></span>\n<ul>\n	<li><span style="color:#355732\;"><span style="font-family:tahoma\,sans-serif\;"><span style="font-size:10.0pt\;">5K Run -&nbsp\;<a href="https://www.ctbhi.org/the-race/5k-run"><span style="color:#CD77A9\;">DETAILS</span></a></span></span></span></li>\n	<li><span style="color:#355732\;"><span style="font-family:tahoma\,sans-serif\;"><span style="font-size:10.0pt\;">4K / 1 Mile Walk -&nbsp\;<a href="https://www.ctbhi.org/the-race/4k-1-mile-walk"><span style="color:#CD77A9\;">DETAILS</span></a></span></span></span></li>\n	<li><span style="color:#355732\;"><span style="font-family:tahoma\,sans-serif\;"><span style="font-size:10.0pt\;">Kids Fun Runs -&nbsp\;<a href="https://www.ctbhi.org/the-race/kids-fun-runs"><span style="color:#CD77A9\;">DETAILS</span></a></span></span></span></li>\n	<li><span style="color:#355732\;"><span style="font-family:tahoma\,sans-serif\;"><span style="font-size:10.0pt\;">Virtual 5K Run / Walk -&nbsp\;<a href="https://www.ctbhi.org/the-race/virtual-run-walk"><span style="color:#CD77A9\;">DETAILS</span></a></span></span></span></li>\n</ul>\n<strong><span style="color:#333333\;"><span style="font-family:tahoma\,sans-serif\;"><span style="font-size:10.0pt\;">BENEFITS:</span></span></span></strong>\n\n<ul>\n	<li><span style="color:#355732\;"><span style="font-family:tahoma\,sans-serif\;"><span style="font-size:10.0pt\;">Official RACE T-shirt</span></span></span></li>\n	<li><span style="color:#355732\;"><span style="font-family:tahoma\,sans-serif\;"><span style="font-size:10.0pt\;">Support the great work of the CT Breast Health Initiative!</span></span></span></li>\n	<li><span style="color:#355732\;"><span style="font-family:tahoma\,sans-serif\;"><span style="font-size:10.0pt\;">All survivors will receive a special pink edition of the shirt\, exclusive survivor finisher medal\, and are welcome to join the Survivor Breakfast event!</span></span></span></li>\n</ul>\n<strong><span style="color:#333333\;"><span style="font-family:tahoma\,sans-serif\;"><span style="font-size:10.0pt\;">REGISTRATION HELP:</span></span></span></strong><br />\n<span style="color:#355732\;"><span style="font-family:tahoma\,sans-serif\;"><span style="font-size:10.0pt\;">First time registering?&nbsp\; No problem!&nbsp\; For a step by step guide\,&nbsp\;<strong><a href="https://www.ctbhi.org/download/2023-How-To-Register-Guide.pdf" target="_blank"><span style="color:#CD77A9\;">CLICK HERE</span></a></strong></span></span></span><br />\n<span style="color:#355732\;"><span style="font-family:tahoma\,sans-serif\;"><span style="font-size:10.0pt\;">The CT Breast Health Initiative is proud to be partnering with the Hartford Marathon Foundation this year to bring you registration for the CT RACE IN THE PARK.</span></span></span><br />\n<span style="color:#355732\;"><span style="font-family:tahoma\,sans-serif\;"><span style="font-size:10.0pt\;">If you are having trouble registering online and need immediate assistance\, you may contact support@hakusports.com or by phone\, 844-299-2087\, Monday-Friday between the hours of 9:00 AM and 6:00 PM Eastern Standard Time. Or\, you may send an email to registration@hartfordmarathon.com and a staff person will provide assistance by reply email.</span></span></span><br />\n<br />\n<span style="color:#355732\;"><span style="font-family:tahoma\,sans-serif\;"><span style="font-size:10.0pt\;">Participants can confirm they have registered by logging into their&nbsp\;</span></span></span><strong><span style="color:#D86A9A\;"><span style="font-family:tahoma\,sans-serif\;"><span style="font-size:10.0pt\;"><a href="https://manage.hakuapp.com/login/hartford-marathon-foundation" target="_blank"><span style="color:#D86A9A\;">HAKU PARTICIPANT ACCOUNT</span></a>.&nbsp\;</span></span></span></strong><br />\n<span style="color:#355732\;"><span style="font-family:tahoma\,sans-serif\;"><span style="font-size:10.0pt\;">To begin\, input the email address used at the time of registration. Once logged-in\, you can view your upcoming events\, suggested events\, and\, if applicable\, change events and manage or view teams and others that you&rsquo\;ve registered.</span></span></span><br />\n<strong><span style="color:#355732\;"><span style="font-family:tahoma\,sans-serif\;"><span style="font-size:10.0pt\;">Note</span></span></span></strong><span style="color:#355732\;"><span style="font-family:tahoma\,sans-serif\;"><span style="font-size:10.0pt\;">: If you have any questions\, click the &ldquo\;we are online&rdquo\; popup in the bottom right corner\, or the question mark icon in the top right corner.</span></span></span><br />\n<br />\n<strong><span style="color:#333333\;"><span style="font-family:tahoma\,sans-serif\;"><span style="font-size:10.0pt\;">PACKET PICKUP:</span></span></span></strong><br />\n<span style="color:#355732\;"><span style="font-family:tahoma\,sans-serif\;"><span style="font-size:10.0pt\;">All participants must show a Photo ID to pick up their packets (parent/guardian of minors must show ID).</span></span></span><br />\n<br />\n<strong><span style="color:#355732\;"><span style="font-family:tahoma\,sans-serif\;"><span style="font-size:10.0pt\;">Friday\, May 12 (Day Before RACE): 12 PM to 6 PM\, Walnut Hill Park\, New Britain\, CT</span></span></span></strong><br />\n<strong><span style="color:#355732\;"><span style="font-family:tahoma\,sans-serif\;"><span style="font-size:10.0pt\;">Saturday\, May 13 (RACE Day): 6:30 AM to 10 AM\, Walnut Hill Park\, New Britain\, CT</span></span></span></strong><br />\n<br />\n<span style="color:#355732\;"><span style="font-family:tahoma\,sans-serif\;"><span style="font-size:10.0pt\;">&bull\; Online and in-person registration remains open until 30 minutes before each specific event starts</span></span></span><br />\n<br />\n<strong><span style="color:#355732\;"><span style="font-family:tahoma\,sans-serif\;"><span style="font-size:10.0pt\;">Note</span></span></span></strong><span style="color:#355732\;"><span style="font-family:tahoma\,sans-serif\;"><span style="font-size:10.0pt\;">: To designate someone to pick up another runner&rsquo\;s event packet\, the designee must bring or show a copy of this signed&nbsp\;</span></span></span><span style="color:#D86A9A\;"><span style="font-family:tahoma\,sans-serif\;"><span style="font-size:10.0pt\;"><a href="https://www.hartfordmarathon.com/wp-content/uploads/2016/09/running_event_waiver_form.pdf" target="_blank"><span style="color:#D86A9A\;">waiver/permission slip</span></a></span></span></span><span style="color:#355732\;"><span style="font-family:tahoma\,sans-serif\;"><span style="font-size:10.0pt\;">. Photocopies or phone pictures of the form will be accepted.</span></span></span><br />\n<br />\n<strong><span style="color:#333333\;"><span style="font-family:tahoma\,sans-serif\;"><span style="font-size:10.0pt\;">UPGRADES:</span></span></span></strong><br />\n<strong><span style="color:#355732\;"><span style="font-family:tahoma\,sans-serif\;"><span style="font-size:10.0pt\;">SURVIVOR BREAKFAST GUEST TICKETS:</span></span></span></strong><br />\n<span style="color:#355732\;"><span style="font-family:tahoma\,sans-serif\;"><span style="font-size:10.0pt\;">Registered survivors for the CT RACE IN THE PARK now have the option to bring a guest to the Survivor breakfast with them\, for just $15 (per guest)!</span></span></span><br />\n<br />\n<strong><span style="color:#355732\;"><span style="font-family:tahoma\,sans-serif\;"><span style="font-size:10.0pt\;">MAIL MY PACKET:</span></span></span></strong><br />\n<span style="color:#355732\;"><span style="font-family:tahoma\,sans-serif\;"><span style="font-size:10.0pt\;">For the convenience of runners who plan to come to New Britain on Saturday only\, the mail my packet option is available during online registration for $20 per packet and must be reserved by April 16\, 2023. If you purchase my packet\, you can expect to receive your packet by May 8th.<br />\n<br />\nIf you are interested in any of the above listed upgrades\, use the following steps to add them to your event day experience:<br />\n&bull\; Select those that apply during the registration process<br />\n&bull\; OR\, after you&rsquo\;ve registered for the event by logging in to your&nbsp\;<a href="https://manage.hakuapp.com/login/hartford-marathon-foundation" target="_blank"><span style="color:#D86A9A\;">HAKU PARTICIPANT ACCOUNT</span></a></span></span></span><br />\n<br />\n<strong><span style="color:#355732\;"><span style="font-family:tahoma\,sans-serif\;"><span style="font-size:10.0pt\;">REFUND PROTECTION:</span></span></span></strong><br />\n<span style="color:#355732\;"><span style="font-family:tahoma\,sans-serif\;"><span style="font-size:10.0pt\;">Refund Protection is available for purchase at the time of registration only.</span></span></span><br />\n<span style="color:#355732\;"><span style="font-family:tahoma\,sans-serif\;"><span style="font-size:10.0pt\;">Please note that refundable booking claims will be administered by the Protect Group\, not by the Hartford Marathon Foundation or Connecticut Breast Health Initiative.&nbsp\; If opting to add refund protection during event registration\, participants pay an additional service fee of 14% of all items purchased\, excluding event processing fees. Registered participants who have purchased refund protection and are unable to participate in the race for a wide range of covered scenarios will receive a 100% refund of their entry fee and ancillary purchases within 10 business days of the claim submission.</span></span></span><br />\n<span style="color:#355732\;"><span style="font-family:tahoma\,sans-serif\;"><span style="font-size:10.0pt\;">For information on what is covered and no covered by refund protection booking\,&nbsp\;</span></span></span><span style="color:#D86A9A\;"><span style="font-family:tahoma\,sans-serif\;"><span style="font-size:10.0pt\;"><a href="https://www.refundable.me/haku/" target="_blank"><span style="color:#D86A9A\;">click here</span></a></span></span></span><span style="color:#355732\;"><span style="font-family:tahoma\,sans-serif\;"><span style="font-size:10.0pt\;">.</span></span></span><br />\n<br />\n<strong><span style="color:#355732\;"><span style="font-family:tahoma\,sans-serif\;"><span style="font-size:10.0pt\;">RACE DAY MERCHANDISE:</span></span></span></strong><br />\n<span style="color:#355732\;"><span style="font-family:tahoma\,sans-serif\;"><span style="font-size:10.0pt\;">For even more ways to upgrade your CT RACE IN THE PARK experience\, visit the Merchandise tent race day and check out the selection!</span></span></span><br />\n<br />\n<strong><span style="color:#333333\;"><span style="font-family:tahoma\,sans-serif\;"><span style="font-size:10.0pt\;">SCHEDULE:</span></span></span></strong><br />\n<span style="color:#355732\;"><span style="font-family:tahoma\,sans-serif\;"><span style="font-size:10.0pt\;">FRIDAY\, MAY 12th\, 2023:</span></span></span>\n\n<ul>\n	<li><span style="color:#355732\;"><span style="font-family:tahoma\,sans-serif\;"><span style="font-size:10.0pt\;">12:00 PM &ndash\; 6:00 pm:&nbsp\; Registration\, bib number\, T-shirt pickup</span></span></span></li>\n</ul>\n<span style="color:#355732\;"><span style="font-family:tahoma\,sans-serif\;"><span style="font-size:10.0pt\;">SATURDAY\, MAY 13th\, 2023:</span></span></span>\n\n<ul>\n	<li><span style="color:#355732\;"><span style="font-family:tahoma\,sans-serif\;"><span style="font-size:10.0pt\;">6:30 am: Buses Start Transporting from the garages</span></span></span></li>\n	<li><span style="color:#355732\;"><span style="font-family:tahoma\,sans-serif\;"><span style="font-size:10.0pt\;">6:30 am: Registration\, Bib number\, T-shirt pickup</span></span></span></li>\n	<li><span style="color:#355732\;"><span style="font-family:tahoma\,sans-serif\;"><span style="font-size:10.0pt\;">7:45 - 9:00 am:&nbsp\;&nbsp\; Survivor Breakfast</span></span></span></li>\n	<li><span style="color:#355732\;"><span style="font-family:tahoma\,sans-serif\;"><span style="font-size:10.0pt\;">8:00 am:</span></span></span>\n	<ul style="list-style-type:circle\;">\n		<li><span style="color:#355732\;"><span style="font-family:tahoma\,sans-serif\;"><span style="font-size:10.0pt\;">Silent Auction/Raffle Tent Open</span></span></span></li>\n		<li><span style="color:#355732\;"><span style="font-family:tahoma\,sans-serif\;"><span style="font-size:10.0pt\;">Food Trucks Open</span></span></span></li>\n	</ul>\n	</li>\n	<li><span style="color:#355732\;"><span style="font-family:tahoma\,sans-serif\;"><span style="font-size:10.0pt\;">8:30 am:&nbsp\; Kids Fun Runs (1 Mile / age races)</span></span></span></li>\n	<li><span style="color:#355732\;"><span style="font-family:tahoma\,sans-serif\;"><span style="font-size:10.0pt\;">9:00 am:&nbsp\; Survivor Photo</span></span></span></li>\n	<li><span style="color:#355732\;"><span style="font-family:tahoma\,sans-serif\;"><span style="font-size:10.0pt\;">9:15 am:&nbsp\; Female &amp\; Male 5K Run</span></span></span></li>\n	<li><span style="color:#355732\;"><span style="font-family:tahoma\,sans-serif\;"><span style="font-size:10.0pt\;">10:00 am: 5K Awards Ceremony (at Awards Tent)</span></span></span></li>\n	<li><span style="color:#355732\;"><span style="font-family:tahoma\,sans-serif\;"><span style="font-size:10.0pt\;">10:00 am: Beer Garden Opens</span></span></span></li>\n	<li><span style="color:#355732\;"><span style="font-family:tahoma\,sans-serif\;"><span style="font-size:10.0pt\;">10:30 am:&nbsp\; 1 Mile Walk &amp\; 4K Walk</span></span></span></li>\n	<li><span style="color:#355732\;"><span style="font-family:tahoma\,sans-serif\;"><span style="font-size:10.0pt\;">11:00 am:&nbsp\; Silent Auction/Raffle Tent Closes</span></span></span></li>\n	<li><span style="color:#355732\;"><span style="font-family:tahoma\,sans-serif\;"><span style="font-size:10.0pt\;">1:00 pm:&nbsp\; Last Shuttle</span></span></span></li>\n</ul>\n<strong><span style="color:#333333\;"><span style="font-family:tahoma\,sans-serif\;"><span style="font-size:10.0pt\;">PARKING &amp\; BUS TRANSPORTATION:</span></span></span></strong><br />\n<span style="color:#355732\;"><span style="font-family:tahoma\,sans-serif\;"><span style="font-size:10.0pt\;">Pre/Post-race activities\, as well as race start &amp\; finish will take place in and around Walnut Hill Park in New Britain\, Connecticut.</span></span></span><br />\n<span style="color:#355732\;"><span style="font-family:tahoma\,sans-serif\;"><span style="font-size:10.0pt\;"><a href="https://goo.gl/maps/W4avxBwjeL7ZLQ5e9" target="_blank"><span style="color:#CD77A9\;">CLICK HERE</span></a>&nbsp\;for directions</span></span></span><br />\n<br />\n<strong><span style="color:#355732\;"><span style="font-family:tahoma\,sans-serif\;"><span style="font-size:10.0pt\;">Athlete parking is available at:</span></span></span></strong>\n\n<ul>\n	<li><span style="color:#355732\;"><span style="font-family:tahoma\,sans-serif\;"><span style="font-size:10.0pt\;">Courthouse (Linda Blogoslawski) Parking Garage - 25 Washington St\, New Britain\, CT</span></span></span></li>\n	<li><span style="color:#355732\;"><span style="font-family:tahoma\,sans-serif\;"><span style="font-size:10.0pt\;">John N. Badolato Parking Garage - Liberty Square\, New Britain\, CT</span></span></span></li>\n</ul>\n<strong><span style="color:#355732\;"><span style="font-family:tahoma\,sans-serif\;"><span style="font-size:10.0pt\;">Note</span></span></span></strong><span style="color:#355732\;"><span style="font-family:tahoma\,sans-serif\;"><span style="font-size:10.0pt\;">: Carpooling encouraged.&nbsp\; Use the garages above\, parking at and around Walnut Hill Park is very limited.&nbsp\;</span></span></span><br />\n<br />\n<strong><span style="color:#355732\;"><span style="font-family:tahoma\,sans-serif\;"><span style="font-size:10.0pt\;">SHUTTLE BUS TRANSPORTATION:</span></span></span></strong><br />\n<span style="color:#355732\;"><span style="font-family:tahoma\,sans-serif\;"><span style="font-size:10.0pt\;">Complimentary shuttle bus transportation from the above-mentioned parking garages to Walnut Hill Park will be available on race day for all registered participants. The shuttle bus transportation will drop off and pick up participants adjacent to the Walnut Hill Park Bandshell\, on Grand Street.</span></span></span>\n\n<ul>\n	<li><span style="color:#355732\;"><span style="font-family:tahoma\,sans-serif\;"><span style="font-size:10.0pt\;">6:30 AM: Shuttle services begins</span></span></span></li>\n	<li><span style="color:#355732\;"><span style="font-family:tahoma\,sans-serif\;"><span style="font-size:10.0pt\;">1:00 PM: Shuttle services ends</span></span></span></li>\n</ul>\n
LOCATION:Walnut Hill Park 184 W Main St\, New Britain\, CT 06052
UID:e.1932.24839
SEQUENCE:3
DTSTAMP:20260420T152956Z
URL:https://business.middlesexchamber.com/events/details/race-in-the-park-24839
END:VEVENT

END:VCALENDAR
