BEGIN:VCALENDAR
VERSION:2.0
PRODID:-//ChamberMaster//Event Calendar 2.0//EN
METHOD:PUBLISH
X-PUBLISHED-TTL:P3D
REFRESH-INTERVAL:P3D
CALSCALE:GREGORIAN
BEGIN:VEVENT
DTSTART:20170811T213000Z
DTEND:20170812T010000Z
X-MICROSOFT-CDO-ALLDAYEVENT:FALSE
SUMMARY:Putts for a Purpose
DESCRIPTION:The Middlesex United Way Young Leaders Society will host its 2nd Annual 'Putts for a Purpose" Miniature Golf tournament. Proceeds from the event will go towards the purchase of needed school supplies to be distributed throughout elementary schools in Middlesex County\, benefiting Middlesex United Way efforts of promoting school readiness within the community.
X-ALT-DESC;FMTTYPE=text/html:The Middlesex United Way Young Leaders Society will host its 2nd Annual &lsquo\;Putts for a Purpose&rdquo\; Miniature Golf tournament. Proceeds from the event will go towards the purchase of needed school supplies to be distributed throughout elementary schools in Middlesex County\, benefiting Middlesex United Way efforts of promoting school readiness within the community.
LOCATION:Torza's Golf 150 Sebethe Drive Cromwell
UID:e.1932.4558
SEQUENCE:3
DTSTAMP:20260424T184954Z
URL:https://business.middlesexchamber.com/events/details/putts-for-a-purpose-4558
END:VEVENT

END:VCALENDAR
