BEGIN:VCALENDAR
VERSION:2.0
PRODID:-//ChamberMaster//Event Calendar 2.0//EN
METHOD:PUBLISH
X-PUBLISHED-TTL:P3D
REFRESH-INTERVAL:P3D
CALSCALE:GREGORIAN
BEGIN:VEVENT
DTSTART:20230430T170000Z
DTEND:20230430T183000Z
X-MICROSOFT-CDO-ALLDAYEVENT:FALSE
SUMMARY:Pure Bees Wax Candle Rolling Workshop
DESCRIPTION:An enjoyable craft to learn for people of all ages. No previous experience required!\n\n\n\nObtain a greater understanding of honeybee life\, where beeswax comes from\, and why these candles are extra-special. Each participant makes two different sets of 100% pure beeswax candles. These candles burn slowly\, smell fantastic and are actually known to clean the air by removing dust particles   never leaving any unhealthy residue.\n\n\n\nStudents receive pre-cut beeswax sheets with the highest quality cotton wick which they then roll into beautiful candles   keep the candles for yourself or use them as unique gifts.
X-ALT-DESC;FMTTYPE=text/html:<span style="font-size:16px\;"><span style="font-family:arial\;"><span style="background-color: rgb(255\, 255\, 255)\; color: rgb(38\, 38\, 38)\;">An enjoyable craft to learn for people of all ages. No previous experience required!</span><br />\n<br />\n<span style="background-color: rgb(255\, 255\, 255)\; color: rgb(38\, 38\, 38)\;">Obtain a greater understanding of honeybee life\, where beeswax comes from\, and why these candles are extra-special. Each participant makes two different sets of 100% pure beeswax candles. These candles burn slowly\, smell fantastic and are actually known to clean the air by removing dust particles &ndash\; never leaving any unhealthy residue.<br />\n<br />\nStudents receive pre-cut beeswax sheets with the highest quality cotton wick which they then roll into beautiful candles &ndash\; keep the candles for yourself or use them as unique gifts.</span></span></span>
LOCATION:Spectrum Art Gallery 61 Main Street Centerbrook\, CT 06409
UID:e.1932.25289
SEQUENCE:3
DTSTAMP:20260420T152914Z
URL:https://business.middlesexchamber.com/events/details/pure-bees-wax-candle-rolling-workshop-25289
END:VEVENT

END:VCALENDAR
