BEGIN:VCALENDAR
VERSION:2.0
PRODID:-//ChamberMaster//Event Calendar 2.0//EN
METHOD:PUBLISH
X-PUBLISHED-TTL:P3D
REFRESH-INTERVAL:P3D
CALSCALE:GREGORIAN
BEGIN:VEVENT
DTSTART:20260325T213000Z
DTEND:20260325T223000Z
X-MICROSOFT-CDO-ALLDAYEVENT:FALSE
SUMMARY:Professional Training & Development Program Program/Class Orientation
DESCRIPTION:The Professional Training and Development program\, offered by the Middlesex County Chamber of Commerce\, will take place virtually via Zoom during the months of April\, May\, and June of 2026. This important workforce development program has trained over 2\,000 people since its inception in 1986 and has received many awards along the way\, including a Presidential Citation and The Governor's Laurel Award.\n\n\n\nThese programs/classes are FREE to the public and are designed to provide individuals with the necessary skills to compete in today's demanding workforce and to increase productivity in the workplace.\n\n\n\nThe 2026 classes offered include:\n\n	Career & Personal Coaching\n	Strategic Leadership   Managing Yourself and Leading Others\n	Social Media/Personal and Business Adaptation\n	Google Suites (Sheets\, Docs & Slides)\n	Money Matters/Financial Management\n\nFor Class Schedule and Sign Up Information please visit the Professional Training & Development page on the Chamber website by clicking here.
X-ALT-DESC;FMTTYPE=text/html:<p data-end="516" data-start="97" style="box-sizing: border-box\; margin: 0px 0px 10px\; color: rgb(85\, 85\, 85)\; font-family: Raleway\, sans-serif\; font-size: 16px\; background-color: rgb(243\, 243\, 243)\;">&nbsp\;</p>\n\n<p data-end="516" data-start="97" style="box-sizing: border-box\; margin: 0px 0px 10px\; color: rgb(85\, 85\, 85)\; font-family: Raleway\, sans-serif\; font-size: 16px\; background-color: rgb(243\, 243\, 243)\;">&nbsp\;</p>\nThe Professional Training and Development program\, offered by the Middlesex County Chamber of Commerce\, will take place virtually via Zoom during the months of April\, May\, and June of 2026. This important workforce development program has trained over 2\,000 people since its inception in 1986 and has received many awards along the way\, including a Presidential Citation and The Governor&rsquo\;s Laurel Award.<br />\n<br />\nThese programs/classes are&nbsp\;<strong>FREE</strong>&nbsp\;to the public and are designed to provide individuals with the necessary skills to compete in today&rsquo\;s demanding workforce and to increase productivity in the workplace.<br />\n<br />\nThe 2026 classes offered include:\n<ul>\n	<li><strong>Career &amp\; Personal Coaching</strong></li>\n	<li><strong>Strategic Leadership &ndash\; Managing Yourself and Leading Others</strong></li>\n	<li><strong>Social Media/Personal and Business Adaptation</strong></li>\n	<li><strong>Google Suites (Sheets\, Docs &amp\; Slides)</strong></li>\n	<li><strong>Money Matters/Financial Management</strong></li>\n</ul>\nFor Class Schedule and Sign Up Information please visit the Professional Training &amp\; Development page on the Chamber website by <a href="https://www.middlesexchamber.com/professional-training-and-development-program/">clicking here.</a>
LOCATION:Orientation held via Zoom
UID:e.1932.34748
SEQUENCE:3
DTSTAMP:20260424T115847Z
URL:https://business.middlesexchamber.com/events/details/professional-training-development-program-program-class-orientation-34748
END:VEVENT

END:VCALENDAR
