BEGIN:VCALENDAR
VERSION:2.0
PRODID:-//ChamberMaster//Event Calendar 2.0//EN
METHOD:PUBLISH
X-PUBLISHED-TTL:P3D
REFRESH-INTERVAL:P3D
CALSCALE:GREGORIAN
BEGIN:VEVENT
DTSTART:20221006T213000Z
DTEND:20221007T020000Z
X-MICROSOFT-CDO-ALLDAYEVENT:FALSE
SUMMARY:PRIME'S OKTOBERFEST
DESCRIPTION:Join us for a night full of food\, drinks\, music\, and more with all of our friends from around the Greater Hartford community!\n\nPlease note this is an outdoor event.\n\nYou can email Marybeth@Carbonesct.com for tickets and questions.\n\nMusic by: DJ Mark The Shark\n\nCigars by: The Penthouse Cigars & Lounge\n\nAll Proceeds To Benefit:\n\nLaura's Garden Foundation\, a 501(c)3 non-profit organization.
X-ALT-DESC;FMTTYPE=text/html:<p>Join us for a night full of food\, drinks\, music\, and more with all of our friends from around the Greater Hartford community!</p>\n\n<p>Please note this is an outdoor event.</p>\n\n<p>You can email Marybeth@Carbonesct.com for tickets and questions.</p>\n\n<p><strong>Music by:&nbsp\;</strong>DJ Mark The Shark</p>\n\n<p><strong>Cigars by:&nbsp\;</strong>The Penthouse Cigars &amp\; Lounge</p>\n\n<p><strong>All Proceeds To Benefit:</strong></p>\n\n<p><strong>Laura&#39\;s Garden Foundation\,&nbsp\;</strong><strong><em>a 501(c)3 non-profit organization.</em></strong></p>\n
LOCATION:838 Cromwell Ave Rocky Hill\, CT 06067
UID:e.1932.23989
SEQUENCE:3
DTSTAMP:20260421T004925Z
URL:https://business.middlesexchamber.com/events/details/prime-s-oktoberfest-23989
END:VEVENT

END:VCALENDAR
