BEGIN:VCALENDAR
VERSION:2.0
PRODID:-//ChamberMaster//Event Calendar 2.0//EN
METHOD:PUBLISH
X-PUBLISHED-TTL:P3D
REFRESH-INTERVAL:P3D
CALSCALE:GREGORIAN
BEGIN:VEVENT
DTSTART:20230429T130000Z
DTEND:20230429T170000Z
X-MICROSOFT-CDO-ALLDAYEVENT:FALSE
SUMMARY:Powder Ridge Mountain Park and Resort Summer Job Fair
DESCRIPTION:Do you love Mountain Sports? Working Outside? Come join our passionate and friendly staff in a growing\, fast paced and fun work environment!\n\n\n\nPowder Ridge Mountain Park and Resort offers a wide variety of summer seasonal positions to match your talents. \n\n\n\nWe look forward to seeing you at our Job Fair!
X-ALT-DESC;FMTTYPE=text/html:<strong><span style="color:#17365D"><span style="font-family:arial\,sans-serif"><span style="font-size:14.0pt">Do you love Mountain Sports? Working Outside? Come join our passionate and friendly staff in a growing\, fast paced and fun work environment!<br />\n<br />\nPowder Ridge Mountain Park and Resort offers a wide variety of summer seasonal positions to match your talents.&nbsp\;<br />\n<br />\nWe look forward to seeing you at our Job Fair!</span></span></span></strong>
LOCATION:Powder Ridge Mountain Park & Resort 99 Powder Hill Road Middlefield\, CT 06455
UID:e.1932.25358
SEQUENCE:3
DTSTAMP:20260420T153536Z
URL:https://business.middlesexchamber.com/events/details/powder-ridge-mountain-park-and-resort-summer-job-fair-25358
END:VEVENT

END:VCALENDAR
