BEGIN:VCALENDAR
VERSION:2.0
PRODID:-//ChamberMaster//Event Calendar 2.0//EN
METHOD:PUBLISH
X-PUBLISHED-TTL:P3D
REFRESH-INTERVAL:P3D
CALSCALE:GREGORIAN
BEGIN:VEVENT
DTSTART:20181003T120000Z
DTEND:20181003T130000Z
X-MICROSOFT-CDO-ALLDAYEVENT:FALSE
SUMMARY:Portland/East Hampton Division
DESCRIPTION:Program: Candidates for Legislative Office
X-ALT-DESC;FMTTYPE=text/html:<br />\nProgram: Candidates for Legislative Office&nbsp\;
LOCATION:Angelico's Lake House Restaurant 81 North Main Street East Hampton\, CT
UID:e.1932.7691
SEQUENCE:3
DTSTAMP:20260421T083745Z
URL:https://business.middlesexchamber.com/events/details/portland-east-hampton-division-7691
END:VEVENT

END:VCALENDAR
