BEGIN:VCALENDAR
VERSION:2.0
PRODID:-//ChamberMaster//Event Calendar 2.0//EN
METHOD:PUBLISH
X-PUBLISHED-TTL:P3D
REFRESH-INTERVAL:P3D
CALSCALE:GREGORIAN
BEGIN:VEVENT
DTSTART:20251203T130000Z
DTEND:20251203T140000Z
X-MICROSOFT-CDO-ALLDAYEVENT:FALSE
SUMMARY:Portland/East Hampton Division
DESCRIPTION:The Chamber has nine geographically based divisions which meet on a monthly basis throughout Middlesex County. These divisions focus on local economic development issues and each meeting features an update from local municipal officials. \n\n\n\nMeetings occur on the first Wednesday of the month at different locations. This division does not meet in the Summer months of July and August.\n\n\n\nThe host for this meeting is Pam and her team at Saint Clements Castle & Marina. The Chamber would like to thank Pam and her team for hosting this event. \n\n\n\nAgenda\n\n \n\nI. Welcome and Introductions\n\n	Introductions from the division chair/s\n	Round Robin introduction from members attending \n\nII. Remarks\n\n\n	Host remarks and information\n	Town updates from department heads attending\n	Speaker remarks and information\n\nIII. Closing Remarks and Chamber Updates\n\n\n	Chamber updates from Chamber representative attending
X-ALT-DESC;FMTTYPE=text/html:The Chamber has nine geographically based divisions which meet on a monthly basis throughout Middlesex County. These divisions focus on local economic development issues and each meeting features an update from local municipal officials.&nbsp\;<br />\n<br />\nMeetings occur on the first Wednesday of the month at different locations. This division does not meet in the Summer months of July and August.<br />\n<br />\nThe host for this meeting is Pam and her team at Saint Clements Castle &amp\; Marina. The Chamber would like to thank Pam and her team for hosting this event.&nbsp\;<br />\n<br />\nAgenda<br />\n&nbsp\;<br />\nI. Welcome and Introductions\n<ul>\n	<li>Introductions from the division chair/s</li>\n	<li>Round Robin introduction from members attending&nbsp\;</li>\n</ul>\nII. Remarks\n\n<ul>\n	<li>Host remarks and information</li>\n	<li>Town updates from department heads attending</li>\n	<li>Speaker remarks and information</li>\n</ul>\nIII. Closing Remarks and Chamber Updates\n\n<ul>\n	<li>Chamber updates from Chamber representative attending</li>\n</ul>\n
LOCATION:Saint Clements Castle & Marina 1931 Portland Cobalt Road Portland\, CT\, 06480-0427
UID:e.1932.30237
SEQUENCE:3
DTSTAMP:20260424T192144Z
URL:https://business.middlesexchamber.com/events/details/portland-east-hampton-division-12-03-2025-30237
END:VEVENT

END:VCALENDAR
