BEGIN:VCALENDAR
VERSION:2.0
PRODID:-//ChamberMaster//Event Calendar 2.0//EN
METHOD:PUBLISH
X-PUBLISHED-TTL:P3D
REFRESH-INTERVAL:P3D
CALSCALE:GREGORIAN
BEGIN:VEVENT
DTSTART:20230405T120000Z
DTEND:20230405T130000Z
X-MICROSOFT-CDO-ALLDAYEVENT:FALSE
SUMMARY:Portland/East Hampton Division
DESCRIPTION:AGENDA\n\n \n\nI. Welcome and Introductions\n\na. Introductions from the division chair/s\n\n \n\nII. Host Remarks\n\na. Town updates from department heads attending\n\n \n\nIII. Closing Remarks and Chamber Updates\n\na. Chamber updates from Chamber representative attending
X-ALT-DESC;FMTTYPE=text/html:<div><u><strong>AGENDA</strong></u><br />\n&nbsp\;</div>\n\n<div><strong>I.<span style="white-space: pre\;"> </span>Welcome and Introductions</strong></div>\n\n<div>a. Introductions from the division chair/s</div>\n\n<div>&nbsp\;</div>\n\n<div><strong>II.<span style="white-space: pre\;"> </span>Host Remarks</strong></div>\n\n<div>a. Town updates from department heads attending</div>\n\n<div>&nbsp\;</div>\n\n<div><strong>III.<span style="white-space: pre\;"> </span>Closing Remarks and Chamber Updates</strong></div>\n\n<div>a. Chamber updates from Chamber representative attending</div>\n<br />\n&nbsp\;
LOCATION:Petzold's Marine Center 37 Indian Hill Ave Portland\, CT\, 06480
UID:e.1932.24363
SEQUENCE:3
DTSTAMP:20260420T181813Z
URL:https://business.middlesexchamber.com/events/details/portland-east-hampton-division-04-05-2023-24363
END:VEVENT

END:VCALENDAR
