BEGIN:VCALENDAR
VERSION:2.0
PRODID:-//ChamberMaster//Event Calendar 2.0//EN
METHOD:PUBLISH
X-PUBLISHED-TTL:P3D
REFRESH-INTERVAL:P3D
CALSCALE:GREGORIAN
BEGIN:VEVENT
DTSTART:20220810T210000Z
DTEND:20220810T230000Z
X-MICROSOFT-CDO-ALLDAYEVENT:FALSE
SUMMARY:Planet Fitness Middletown Grand Opening Celebration
DESCRIPTION:Join community members and local officials for the grand opening celebration of the new Planet Fitness club in Middletown!\n\n\n\nFollowing a brief speaking program and ribbon cutting ceremony\, the event will feature a free group exercise class\, food\, vendors\, and prize giveaways.\n\n\n\nLeading up to the grand opening event\, the club will host two themed days to offer specific resources and discounts for students\, teachers\, and first responders.\n\n\n\nMonday\, August 8th will be "Back-to-School" day\, and Tuesday\, August 9th will be "First Responder" day. Residents that fall into any of these categories are encouraged to visit the club on their respective date to receive membership deals\, enjoy local vendors\, and tour the new location.\n\n\n\nFor more information about Planet Fitness\, and to sign up for a membership at the Middletown location\, visit: https://www.planetfitness.com/gyms/middletown-ct
X-ALT-DESC;FMTTYPE=text/html:Join community members and local officials for the grand opening celebration of the new Planet Fitness club in Middletown!<br />\n<br />\nFollowing a brief speaking program and ribbon cutting ceremony\, the event will feature a free group exercise class\, food\, vendors\, and prize giveaways.<br />\n<br />\nLeading up to the grand opening event\, the club will host two themed days to offer specific resources and discounts for students\, teachers\, and first responders.<br />\n<br />\nMonday\, August 8th will be &ldquo\;Back-to-School&rdquo\; day\, and Tuesday\, August 9th will be &ldquo\;First Responder&rdquo\; day. Residents that fall into any of these categories are encouraged to visit the club on their respective date to receive membership deals\, enjoy local vendors\, and tour the new location.<br />\n<br />\nFor more information about Planet Fitness\, and to sign up for a membership at the Middletown location\, visit: https://www.planetfitness.com/gyms/middletown-ct
LOCATION:Planet Fitness 840 Washington Street Middletown\, CT 06457
UID:e.1932.23862
SEQUENCE:3
DTSTAMP:20260421T033343Z
URL:https://business.middlesexchamber.com/events/details/planet-fitness-middletown-grand-opening-celebration-23862
END:VEVENT

END:VCALENDAR
