BEGIN:VCALENDAR
VERSION:2.0
PRODID:-//ChamberMaster//Event Calendar 2.0//EN
METHOD:PUBLISH
X-PUBLISHED-TTL:P3D
REFRESH-INTERVAL:P3D
CALSCALE:GREGORIAN
BEGIN:VEVENT
DTSTART:20220628T140000Z
DTEND:20220716T190000Z
X-MICROSOFT-CDO-ALLDAYEVENT:FALSE
SUMMARY:Planet Fitness Middletown\, CT Location Pre-Sale
DESCRIPTION:Planet Fitness is now offering memberships to its new location in Middletown\, CT\, which is scheduled to open for business this summer.\n\n\n\nResidents can join the gym for $1 down and no commitment from June 27 to July 16. The new\, nearly 21\,000 square-foot location will offer a non-intimidating Judgement Free Zone \, hydro loungers\, massage chairs\, tanning beds\, state-of-the-art cardio machines and strength equipment\, the 30-Minute Express Circuit\, a Total Body Enhancement booth\, and more.\n\n\n\nThose interested in signing up can go online or visit the club in-person to get their membership.\n\n\n\nSee the in-person pre-sale schedule here:   Monday   Friday from 10:00 a.m.   6:00 p.m.   Saturday and Sunday from 9:00 a.m.   3:00 p.m. For more information about the new club location\, or to join online\, visit www.PlanetFitness.com.
X-ALT-DESC;FMTTYPE=text/html:Planet Fitness is now offering memberships to its new location in Middletown\, CT\, which is scheduled to open for business this summer.<br />\n<br />\nResidents can join the gym for $1 down and no commitment from June 27 to July 16. The new\, nearly 21\,000 square-foot location will offer a non-intimidating Judgement Free Zone&reg\;\, hydro loungers\, massage chairs\, tanning beds\, state-of-the-art cardio machines and strength equipment\, the 30-Minute Express Circuit\, a Total Body Enhancement booth\, and more.<br />\n<br />\nThose interested in signing up can go online or visit the club in-person to get their membership.<br />\n<br />\nSee the in-person pre-sale schedule here: &bull\; Monday &ndash\; Friday from 10:00 a.m. &ndash\; 6:00 p.m. &bull\; Saturday and Sunday from 9:00 a.m. &ndash\; 3:00 p.m. For more information about the new club location\, or to join online\, visit www.PlanetFitness.com.
LOCATION:Planet Fitness 840 Washington Street Middletown\, CT 06457
UID:e.1932.23735
SEQUENCE:3
DTSTAMP:20260421T033821Z
URL:https://business.middlesexchamber.com/events/details/planet-fitness-middletown-ct-location-pre-sale-23735
END:VEVENT

END:VCALENDAR
