BEGIN:VCALENDAR
VERSION:2.0
PRODID:-//ChamberMaster//Event Calendar 2.0//EN
METHOD:PUBLISH
X-PUBLISHED-TTL:P3D
REFRESH-INTERVAL:P3D
CALSCALE:GREGORIAN
BEGIN:VEVENT
DTSTART:20221211T200000Z
DTEND:20221211T230000Z
X-MICROSOFT-CDO-ALLDAYEVENT:FALSE
SUMMARY:Perk On Main - Meet and Greet Event
DESCRIPTION:Perk on Main is hosting a multi-author book signing event on Sunday\, December 11th\, from 3-6 pm.\n\n\n\nRandy Wojnarowicz\, Connie Bombaci and Karen Perry are local authors promoting their current books.\n\n\n\nStop by Perk\, grab a cup of coffee\, a fresh baked dessert and have a book signed with one or all of these amazing authors.
X-ALT-DESC;FMTTYPE=text/html:<span style="color:rgb(5\, 5\, 5)\; font-family:segoe ui historic\,segoe ui\,helvetica\,arial\,sans-serif\; font-size:15px">Perk on Main is hosting a multi-author book signing event on Sunday\, December 11th\, from 3-6 pm.<br />\n<br />\nRandy Wojnarowicz\, Connie Bombaci and Karen Perry are local authors promoting their current books.<br />\n<br />\nStop by Perk\, grab a cup of coffee\, a fresh baked dessert and have a book signed with one or all of these amazing authors.</span>
LOCATION:Perk On Main 386 Main Street Middletown\, CT\, 06457
UID:e.1932.24112
SEQUENCE:3
DTSTAMP:20260420T220411Z
URL:https://business.middlesexchamber.com/events/details/perk-on-main-meet-and-greet-event-24112
END:VEVENT

END:VCALENDAR
