BEGIN:VCALENDAR
VERSION:2.0
PRODID:-//ChamberMaster//Event Calendar 2.0//EN
METHOD:PUBLISH
X-PUBLISHED-TTL:P3D
REFRESH-INTERVAL:P3D
CALSCALE:GREGORIAN
BEGIN:VEVENT
DTSTART:20170821T193000Z
DTEND:20170821T213000Z
X-MICROSOFT-CDO-ALLDAYEVENT:FALSE
SUMMARY:Paint For A Cause
DESCRIPTION:Join us for Paint Night to raise funds for Alzheimer's Association. $35 per person. Fun guided painting class\, with light refreshments. Checks Payable to Chester Village West
X-ALT-DESC;FMTTYPE=text/html:Join us for Paint Night to raise funds for Alzheimer&#39\;s Association. $35 per person. Fun guided painting class\, with light refreshments. Checks Payable to Chester Village West
LOCATION:Chester Village West 317 W. Main St. Chester\, CT 06412
UID:e.1932.4575
SEQUENCE:3
DTSTAMP:20260425T134055Z
URL:https://business.middlesexchamber.com/events/details/paint-for-a-cause-4575
END:VEVENT

END:VCALENDAR
