BEGIN:VCALENDAR
VERSION:2.0
PRODID:-//ChamberMaster//Event Calendar 2.0//EN
METHOD:PUBLISH
X-PUBLISHED-TTL:P3D
REFRESH-INTERVAL:P3D
CALSCALE:GREGORIAN
BEGIN:VEVENT
DTSTART:20250816T140000Z
DTEND:20250816T170000Z
X-MICROSOFT-CDO-ALLDAYEVENT:FALSE
SUMMARY:Open House at Children's House of Montessori on Camp\, Middletown
DESCRIPTION:Children's House of Montessori on Camp will have an Open House where parents can come to learn more about our Montessori Preschool and Childcare program. Drop in for 10 minutes or stay for an hour. Chat with the Head of School and the Lead Teacher. Learn about the Montessori curriculum\, the staff\, the rates\, the discipline policy\, and more!
X-ALT-DESC;FMTTYPE=text/html:<span style="font-size:18px\;">Children&#39\;s House of Montessori on Camp will have an Open House where parents can come to learn more about our Montessori Preschool and Childcare program. Drop in for 10 minutes or stay for an hour. Chat with the Head of School and the Lead Teacher. Learn about the Montessori curriculum\, the staff\, the rates\, the discipline policy\, and more!</span>
LOCATION:Children's House of Montessori on Camp 9 Camp Street Middletown\, CT
UID:e.1932.32658
SEQUENCE:3
DTSTAMP:20260425T000726Z
URL:https://business.middlesexchamber.com/events/details/open-house-at-children-s-house-of-montessori-on-camp-middletown-32658
END:VEVENT

END:VCALENDAR
