BEGIN:VCALENDAR
VERSION:2.0
PRODID:-//ChamberMaster//Event Calendar 2.0//EN
METHOD:PUBLISH
X-PUBLISHED-TTL:P3D
REFRESH-INTERVAL:P3D
CALSCALE:GREGORIAN
BEGIN:VEVENT
DTSTART:20171019T220000Z
DTEND:20171020T010000Z
X-MICROSOFT-CDO-ALLDAYEVENT:FALSE
SUMMARY:Oktoberfest
DESCRIPTION:Rotary Club of Middletown Oktoberfest. The annual fundraising event to support Rotary Programs.\n\n\n\nGuest of Honor: Albert Santostefano. Live and silent auction\, beer tasting\, live entertainment\, great food and more.
X-ALT-DESC;FMTTYPE=text/html:Rotary Club of Middletown Oktoberfest. The annual fundraising event to support Rotary Programs.<br />\n<br />\nGuest of Honor: Albert Santostefano. Live and silent auction\, beer tasting\, live entertainment\, great food and more.
LOCATION:The Elk's Lodge 44 Maynard Street Middletown\, CT
UID:e.1932.4583
SEQUENCE:3
DTSTAMP:20260423T180928Z
URL:https://business.middlesexchamber.com/events/details/oktoberfest-4583
END:VEVENT

END:VCALENDAR
