BEGIN:VCALENDAR
VERSION:2.0
PRODID:-//ChamberMaster//Event Calendar 2.0//EN
METHOD:PUBLISH
X-PUBLISHED-TTL:P3D
REFRESH-INTERVAL:P3D
CALSCALE:GREGORIAN
BEGIN:VEVENT
DTSTART:20220709T230000Z
DTEND:20220710T000000Z
X-MICROSOFT-CDO-ALLDAYEVENT:FALSE
SUMMARY:Oddfellow Playhouse Presents Special Guest Performance "meSSeS"
DESCRIPTION:"meSSeS"\, created and performed by Janoah Bailin\, is a unique experience which combines learning\, entertainment\, and teamwork.\n\n\n\nThe performance will feature acts of juggling\, unicycling\, puppetry\, and dance\, while giving the audience the option to learn to juggle as they watch.\n\n\n\nThe combination of silliness and meaning makes this performance enjoyable for all ages.
X-ALT-DESC;FMTTYPE=text/html:&ldquo\;meSSeS&rdquo\;\, created and performed by Janoah Bailin\, is a unique experience which combines learning\, entertainment\, and teamwork.<br />\n<br />\nThe performance will feature acts of juggling\, unicycling\, puppetry\, and dance\, while giving the audience the option to learn to juggle as they watch.<br />\n<br />\nThe combination of silliness and meaning makes this performance enjoyable for all ages.
LOCATION:Oddfellows Playhouse Youth Theater 128 Washington Street Middletown\, CT 06457
UID:e.1932.23731
SEQUENCE:3
DTSTAMP:20260421T033516Z
URL:https://business.middlesexchamber.com/events/details/oddfellow-playhouse-presents-special-guest-performance-messes-23731
END:VEVENT

END:VCALENDAR
