BEGIN:VCALENDAR
VERSION:2.0
PRODID:-//ChamberMaster//Event Calendar 2.0//EN
METHOD:PUBLISH
X-PUBLISHED-TTL:P3D
REFRESH-INTERVAL:P3D
CALSCALE:GREGORIAN
BEGIN:VEVENT
DTSTART:20220206T000000Z
DTEND:20220206T020000Z
X-MICROSOFT-CDO-ALLDAYEVENT:FALSE
SUMMARY:Nick Anderson & Shady Creek
DESCRIPTION:Based on his farm in Plainfield\, CT\, Nick Anderson & Shady Creek play Bluegrass music that keeps the traditional sound alive and well.\n\n\n\nEntertaining folks with the "high lonesome sound" has been a passion for Nick and has helped keep the band together through numerous changes for more than thirty years. The band has played a variety of festivals\, fairs and concert venues throughout the Northeast and Canada.\n\n\n\nNick captures the essence of Bluegrass with drive\, soulful singing and a genuine love for the music. He is considered "one of the top traditional Bluegrass singers in New England"\, and recently inducted into the Rhode Island Bluegrass Alliance Hall of Fame.\n\n\n\nAs well as singing lead\, tenor and covering rhythm guitar in Shady Creek\, Nick has penned more than a few songs that the band performs\, and which have appeared on the band's recordings over the years. The original titles add another dimension to the otherwise solid traditional repertoire of the band.
X-ALT-DESC;FMTTYPE=text/html:Based on his farm in Plainfield\, CT\, Nick Anderson &amp\; Shady Creek play Bluegrass music that keeps the traditional sound alive and well.<br />\n<br />\nEntertaining folks with the &ldquo\;high lonesome sound&rdquo\; has been a passion for Nick and has helped keep the band together through numerous changes for more than thirty years. The band has played a variety of festivals\, fairs and concert venues throughout the Northeast and Canada.<br />\n<br />\nNick captures the essence of Bluegrass with drive\, soulful singing and a genuine love for the music. He is considered &ldquo\;one of the top traditional Bluegrass singers in New England&rdquo\;\, and recently inducted into the Rhode Island Bluegrass Alliance Hall of Fame.<br />\n<br />\nAs well as singing lead\, tenor and covering rhythm guitar in Shady Creek\, Nick has penned more than a few songs that the band performs\, and which have appeared on the band&rsquo\;s recordings over the years. The original titles add another dimension to the otherwise solid traditional repertoire of the band.
LOCATION:The Buttonwood Tree Performing Arts Center 605 Main Street Middletown
UID:e.1932.23549
SEQUENCE:3
DTSTAMP:20260423T094805Z
URL:https://business.middlesexchamber.com/events/details/nick-anderson-shady-creek-23549
END:VEVENT

END:VCALENDAR
