BEGIN:VCALENDAR
VERSION:2.0
PRODID:-//ChamberMaster//Event Calendar 2.0//EN
METHOD:PUBLISH
X-PUBLISHED-TTL:P3D
REFRESH-INTERVAL:P3D
CALSCALE:GREGORIAN
BEGIN:VEVENT
DTSTART:20211209T223000Z
DTEND:20211210T013000Z
X-MICROSOFT-CDO-ALLDAYEVENT:FALSE
SUMMARY:NewHavenBiz Women in Business Awards
DESCRIPTION:For more information and registration\, please click here.\n\n\n\n\n\nAs executives\, entrepreneurs and leaders\, women play a more important role in the economy and the public life of New Haven and Connecticut than ever before. While there are thousands of female leaders\, and their numbers are growing daily\, some stand out from the crowd because of their achievements and commitment to lead by example and encourage others on the path to success. In November\, New Haven BIZ will honor the achievement of 11 of those leaders as part of a unique awards initiative: Women in Business.
X-ALT-DESC;FMTTYPE=text/html:<span style="color: rgb(0\, 0\, 0)\; font-family: Lora\, serif\; font-size: 20px\;">For more information and registration\, please <a href="https://www.newhavenbiz.com/new-haven-biz-events/women-in-business-awards-2021">click here</a>.<br />\n<br />\n<br />\nAs executives\, entrepreneurs and leaders\, women play a more important role in the economy and the public life of New Haven and Connecticut than ever before. While there are thousands of female leaders\, and their numbers are growing daily\, some stand out from the crowd because of their achievements and commitment to lead by example and encourage others on the path to success. In November\, New Haven BIZ will honor the achievement of 11 of those leaders as part of a unique awards initiative: Women in Business.</span>
LOCATION:Amarante's Sea Cliff 62 Cove Street New Haven\, CT 06512
UID:e.1932.22354
SEQUENCE:3
DTSTAMP:20260421T084348Z
URL:https://business.middlesexchamber.com/events/details/newhavenbiz-women-in-business-awards-22354
END:VEVENT

END:VCALENDAR
