BEGIN:VCALENDAR
VERSION:2.0
PRODID:-//ChamberMaster//Event Calendar 2.0//EN
METHOD:PUBLISH
X-PUBLISHED-TTL:P3D
REFRESH-INTERVAL:P3D
CALSCALE:GREGORIAN
BEGIN:VEVENT
DTSTART:20260101T153000Z
DTEND:20260101T200000Z
X-MICROSOFT-CDO-ALLDAYEVENT:FALSE
SUMMARY:New Years Day Brunch at Saybrook Point Resort and Marina
DESCRIPTION:New Year's Day Brunch\n\nThursday\, January 1\, 2026 | 10:30 AM   3 PM\n\nKick off 2026 with a celebratory brunch at Fresh Salt.\n\n\n\nEnjoy chef-inspired dishes\, seasonal flavors\, and serene waterfront views as you toast to new beginnings.\n\n\n\nWhether you're continuing the festivities or embracing a fresh start\, it's the perfect way to welcome the year ahead.
X-ALT-DESC;FMTTYPE=text/html:<p><span style="font-size:18px\;"><strong>New Year&rsquo\;s Day Brunch</strong><br />\n<strong>Thursday\, January 1\, 2026 | 10:30 AM &ndash\; 3 PM</strong></span></p>\n\n<p><span style="font-size:18px\;">Kick off 2026 with a celebratory brunch at Fresh Salt.<br />\n<br />\nEnjoy chef-inspired dishes\, seasonal flavors\, and serene waterfront views as you toast to new beginnings.<br />\n<br />\nWhether you&#39\;re continuing the festivities or embracing a fresh start\, it&#39\;s the perfect way to welcome the year ahead.</span></p>\n
LOCATION:Saybrook Point Resort and Marina Fresh Salt Restaurant 2 Bridge Street Old Saybrook\, CT. 06475
UID:e.1932.33550
SEQUENCE:3
DTSTAMP:20260424T182046Z
URL:https://business.middlesexchamber.com/events/details/new-years-day-brunch-at-saybrook-point-resort-and-marina-33550
END:VEVENT

END:VCALENDAR
