BEGIN:VCALENDAR
VERSION:2.0
PRODID:-//ChamberMaster//Event Calendar 2.0//EN
METHOD:PUBLISH
X-PUBLISHED-TTL:P3D
REFRESH-INTERVAL:P3D
CALSCALE:GREGORIAN
BEGIN:VEVENT
DTSTART:20230102T180000Z
DTEND:20230102T183000Z
X-MICROSOFT-CDO-ALLDAYEVENT:FALSE
SUMMARY:New Moon\, New Year Meditation
DESCRIPTION:Sleep in from all of your partying as we take a quick moment this afternoon for ourselves.  The new moon phase is a more introspective time and represents new beginnings as we plant seeds for the future.  \n\n \n\nIt's a good time to set clear intentions for the month ahead\, clarify your goals\, start new projects\, and acknowledge your growth since the previous new moon. It's also a good time to let go and release what no longer serves you so that you can welcome in the new\, especially because this phase can spark a desire to pause and reflect. \n\n \n\nTake time to meditate and release all negativity and experiences that no longer serve you from 2022.  Join Melissa in a NEW Beginnings\, New Moon\, New Year meditation.  We will take a moment at the end to set 3 "New Moon Intentions" for the upcoming year.
X-ALT-DESC;FMTTYPE=text/html:<p>Sleep in from all of your partying as we take a quick moment this afternoon for ourselves. &nbsp\;The new moon phase is a more introspective time and represents new beginnings as we plant seeds for the future. &nbsp\;</p>\n\n<p>&nbsp\;</p>\n\n<p>It&rsquo\;s a good time to set clear intentions for the month ahead\, clarify your goals\, start new projects\, and acknowledge your growth since the previous new moon. It&rsquo\;s also a good time to let go and release what no longer serves you so that you can welcome in the new\, especially because this phase can spark a desire to pause and reflect.&nbsp\;</p>\n\n<p>&nbsp\;</p>\n\n<p>Take time to meditate and release all negativity and experiences that no longer serve you from 2022. &nbsp\;Join Melissa in a NEW Beginnings\, New Moon\, New Year meditation. &nbsp\;We will take a moment at the end to set 3 &quot\;New Moon Intentions&quot\; for the upcoming year.</p>\n
LOCATION:Worthy Changes 45 Evans Rd 2nd flr Rocky Hill\, CT
UID:e.1932.24739
SEQUENCE:3
DTSTAMP:20260420T192751Z
URL:https://business.middlesexchamber.com/events/details/new-moon-new-year-meditation-24739
END:VEVENT

END:VCALENDAR
