BEGIN:VCALENDAR
VERSION:2.0
PRODID:-//ChamberMaster//Event Calendar 2.0//EN
METHOD:PUBLISH
X-PUBLISHED-TTL:P3D
REFRESH-INTERVAL:P3D
CALSCALE:GREGORIAN
BEGIN:VEVENT
DTSTART:20171119T213000Z
DTEND:20171119T230000Z
X-MICROSOFT-CDO-ALLDAYEVENT:FALSE
SUMMARY:Nature's wonders: Reception- Art Reception
DESCRIPTION:A showcase of inspiring nature photography by local photographers. Meygan Mandeville & Emmett Varricchio.
X-ALT-DESC;FMTTYPE=text/html:<span style="color: rgb(68\, 68\, 68)\; font-family: open sans\,sans-serif\; font-size: 15px\;">A showcase of inspiring nature photography by local photographers. Meygan Mandeville &amp\; Emmett Varricchio.</span>
LOCATION:The Buttonwood Tree 605 Main Street Middletown\, CT
UID:e.1932.4836
SEQUENCE:3
DTSTAMP:20260424T000424Z
URL:https://business.middlesexchamber.com/events/details/nature-s-wonders-reception-art-reception-4836
END:VEVENT

END:VCALENDAR
