BEGIN:VCALENDAR
VERSION:2.0
PRODID:-//ChamberMaster//Event Calendar 2.0//EN
METHOD:PUBLISH
X-PUBLISHED-TTL:P3D
REFRESH-INTERVAL:P3D
CALSCALE:GREGORIAN
BEGIN:VEVENT
DTSTART:20250219T223000Z
DTEND:20250219T233000Z
X-MICROSOFT-CDO-ALLDAYEVENT:FALSE
SUMMARY:Mystic Book Club: Project Onion
DESCRIPTION:Interested in reading books based in CT\, or written by authors who have lived in the Nutmeg State? Our Mystic Book Club could be the activity for you! Our February book is "Project Onion" by Karen Stensgaard. This book is by a CT Author.\n\n \n\nFrom the jacket: "When Kat Jensen\, an out-of-work internal auditor in New York City\, joins Melville Consulting\, a friend's secretive investigative firm\, she unravels the elaborate money-laundering scheme used by a drug lord nicknamed El Rey\, or The King. Based on her analysis\, the banks freeze his accounts. Furious\, El Rey storms their office\, threatening to kill her boss. The drug czar gets arrested\, but Kat is badly shaken and wants to quit. Except auditing jobs aren't easy to find after she took a year off to go on an unusual bucket-list voyage\, and now she is broke. Memories of Kat's brother\, who lost the battle against drug addiction\, and the much-needed paycheck convince her to try again. But when Kat unexpectedly meets El Rey\, her life is in danger\, since now he wants revenge."\n\n \n\nPlease register online\, and then stop into the Mystic Branch to pick up a free copy of the book.\n\n\n\nRegister today!
X-ALT-DESC;FMTTYPE=text/html:<div><span style="font-size:18px">Interested in reading books based in CT\, or written by authors who have lived in the Nutmeg State? Our Mystic Book Club could be the activity for you! Our February book is &quot\;Project Onion&quot\; by Karen Stensgaard. This book is by a CT Author.</span></div>\n\n<div>&nbsp\;</div>\n\n<div><span style="font-size:18px">From the jacket: &quot\;When Kat Jensen\, an out-of-work internal auditor in New York City\, joins Melville Consulting\, a friend&rsquo\;s secretive investigative firm\, she unravels the elaborate money-laundering scheme used by a drug lord nicknamed El Rey\, or The King. Based on her analysis\, the banks freeze his accounts. Furious\, El Rey storms their office\, threatening to kill her boss. The drug czar gets arrested\, but Kat is badly shaken and wants to quit. Except auditing jobs aren&rsquo\;t easy to find after she took a year off to go on an unusual bucket-list voyage\, and now she is broke. Memories of Kat&rsquo\;s brother\, who lost the battle against drug addiction\, and the much-needed paycheck convince her to try again. But when Kat unexpectedly meets El Rey\, her life is in danger\, since now he wants revenge.&quot\;</span></div>\n\n<div>&nbsp\;</div>\n\n<div><span style="font-size:18px">Please register online\, and then stop into the Mystic Branch to pick up a free copy of the book.<br />\n<br />\n<strong><a href="https://cvent.me/3edvED">Register today!</a></strong></span></div>\n
LOCATION:Chelsea Groton Bank Mystic Branch 2 Water Street Mystic\, CT And on Z00M
UID:e.1932.30614
SEQUENCE:3
DTSTAMP:20260421T111124Z
URL:https://business.middlesexchamber.com/events/details/mystic-book-club-project-onion-30614
END:VEVENT

END:VCALENDAR
