BEGIN:VCALENDAR
VERSION:2.0
PRODID:-//ChamberMaster//Event Calendar 2.0//EN
METHOD:PUBLISH
X-PUBLISHED-TTL:P3D
REFRESH-INTERVAL:P3D
CALSCALE:GREGORIAN
BEGIN:VEVENT
DTSTART:20220724T150000Z
DTEND:20220724T170000Z
X-MICROSOFT-CDO-ALLDAYEVENT:FALSE
SUMMARY:Minds Eye Meditation
DESCRIPTION:Mind's Eye Meditation is a meditation I have been having now for about 3 years. It is directed to those that feel they can't meditate.\n\n\n\nThe actual Meditation is from 11:30am to 12:30pm. As you enter the front door\, please go up the stairs\, at the top\, take a right and go through the 3rd door on the left. Upon opening door there will be a white hallway. My doors is at the end on the left. (Suite 20) Parking on Sundays is FREE!\n\n\n\nThere is street parking right in front and you may also park at the Melilli municipal lot which is exactly 3 minutes away. Note that after Meditation there are many wonderful places to eat at and shop at.\n\n\n\n"Auric Shift" will be offering Aura Readings before and after the Meditation.\n\nAura readings are $10.00 (one before and one after) A full report is $25.00 (which will be emailed to you) "THIS IS A SPECIAL EVENT PRICING"\n\n\n\nPay in cash or using\, VENMO or PAYPAL. (Links below)\n\nVenmo https://account.venmo.com/u/skullandmoon\n\nPaypal\n\nhttps://www.paypal.com/paypalme/skullandmoon\n\n\n\nDISCLAIMER:\n\nThe Aura reading is for entertainment purposes only. It is not intended to diagnose\, treat or cure any physical problems or medical conditions\n\n\n\nThe SKULL & MOON SPIRITUAL SHOPPE will also be selling crystals\, incense\, sage\, candles\, and a few other interesting items.
X-ALT-DESC;FMTTYPE=text/html:<div>Mind&#39\;s Eye Meditation is a meditation I have been having now for about 3 years. It is directed to those that feel they can&#39\;t meditate.<br />\n<br />\nThe actual Meditation is from 11:30am to 12:30pm. As you enter the front door\, please go up the stairs\, at the top\, take a right and go through the 3rd door on the left. Upon opening door there will be a white hallway. My doors is at the end on the left. (Suite 20) Parking on Sundays is FREE!<br />\n<br />\nThere is street parking right in front and you may also park at the Melilli municipal lot which is exactly 3 minutes away. Note that after Meditation there are many wonderful places to eat at and shop at.<br />\n<br />\n&quot\;Auric Shift&quot\; will be offering Aura Readings before and after the Meditation.<br />\nAura readings are $10.00 (one before and one after) A full report is $25.00 (which will be emailed to you) &quot\;THIS IS A SPECIAL EVENT PRICING&quot\;<br />\n<br />\nPay in cash or using\, VENMO or PAYPAL. (Links below)<br />\nVenmo&nbsp\;<a class="oajrlxb2 g5ia77u1 qu0x051f esr5mh6w e9989ue4 r7d6kgcz rq0escxv nhd2j8a9 nc684nl6 p7hjln8o kvgmc6g5 cxmmr5t8 oygrvhab hcukyx3x jb3vyjys rz4wbd8a qt6c0cv9 a8nywdso i1ao9s8h esuyzwwr f1sip0of lzcic4wl gpro0wi8 py34i1dx" href="https://account.venmo.com/u/skullandmoon?fbclid=IwAR0lxb5ngCcSocCVqEvvxuhp5QVNYw91UCj5tvTz_-DqFl5geR54ojYZ7Uw" rel="nofollow noopener" style="cursor: pointer\; text-decoration-line: none\; outline: none\; list-style: none\; border-width: 0px\; border-style: initial\; border-color: initial\; padding: 0px\; margin: 0px\; touch-action: manipulation\; background-color: transparent\; text-align: inherit\; display: inline\; -webkit-tap-highlight-color: transparent\; box-sizing: border-box\; font-family: inherit\;" tabindex="0" target="_blank">https://account.venmo.com/u/skullandmoon</a><br />\nPaypal<br />\n<a class="oajrlxb2 g5ia77u1 qu0x051f esr5mh6w e9989ue4 r7d6kgcz rq0escxv nhd2j8a9 nc684nl6 p7hjln8o kvgmc6g5 cxmmr5t8 oygrvhab hcukyx3x jb3vyjys rz4wbd8a qt6c0cv9 a8nywdso i1ao9s8h esuyzwwr f1sip0of lzcic4wl gpro0wi8 py34i1dx" href="https://www.paypal.com/paypalme/skullandmoon?fbclid=IwAR1XcwArLkepG9jmzbmb05k63_qutEYtusXjXJBvYDYmX1W8DxKvVDVxcBA" rel="nofollow noopener" style="cursor: pointer\; text-decoration-line: none\; outline: none\; list-style: none\; border-width: 0px\; border-style: initial\; border-color: initial\; padding: 0px\; margin: 0px\; touch-action: manipulation\; background-color: transparent\; text-align: inherit\; display: inline\; -webkit-tap-highlight-color: transparent\; box-sizing: border-box\; font-family: inherit\;" tabindex="0" target="_blank">https://www.paypal.com/paypalme/skullandmoon</a><br />\n<br />\nDISCLAIMER:<br />\nThe Aura reading is for entertainment purposes only. It is not intended to diagnose\, treat or cure any physical problems or medical conditions</div>\n\n<div><br />\nThe SKULL &amp\; MOON SPIRITUAL SHOPPE will also be selling crystals\, incense\, sage\, candles\, and a few other interesting items.&nbsp\;\n<div style="text-align:inherit">&nbsp\;</div>\n</div>\n
LOCATION:Noema Hypnosis & Healing 516 main St - Suite 20 Middletown\, CT 06457
UID:e.1932.23852
SEQUENCE:3
DTSTAMP:20260421T035800Z
URL:https://business.middlesexchamber.com/events/details/minds-eye-meditation-23852
END:VEVENT

END:VCALENDAR
