BEGIN:VCALENDAR
VERSION:2.0
PRODID:-//ChamberMaster//Event Calendar 2.0//EN
METHOD:PUBLISH
X-PUBLISHED-TTL:P3D
REFRESH-INTERVAL:P3D
CALSCALE:GREGORIAN
BEGIN:VEVENT
DTSTART:20220724T000000Z
DTEND:20220724T000000Z
X-MICROSOFT-CDO-ALLDAYEVENT:FALSE
SUMMARY:Mike Borgia Live in Concert
DESCRIPTION:Mike Borgia is a New York native\, singer & songwriter celebrating 3 decades of music.\n\n\n\nWith over 19 albums\, national touring and a musical style often compared to artists like Chris Cornell (Soundgarden) and Gary Clark Jr.\n\n\n\nKnown for his robust 5 octave vocal range that crosses between genres of blues\, rock and folk nuances. Lyrically poetic and heartfelt with true to life stories.
X-ALT-DESC;FMTTYPE=text/html:Mike Borgia is a New York native\, singer &amp\; songwriter celebrating 3 decades of music.<br />\n<br />\nWith over 19 albums\, national touring and a musical style often compared to artists like Chris Cornell (Soundgarden) and Gary Clark Jr.<br />\n<br />\nKnown for his robust 5 octave vocal range that crosses between genres of blues\, rock and folk nuances. Lyrically poetic and heartfelt with true to life stories.
LOCATION:The Buttonwood Tree Performing Arts Center 605 Main Street Middletown\, CT
UID:e.1932.23845
SEQUENCE:3
DTSTAMP:20260421T033516Z
URL:https://business.middlesexchamber.com/events/details/mike-borgia-live-in-concert-23845
END:VEVENT

END:VCALENDAR
