BEGIN:VCALENDAR
VERSION:2.0
PRODID:-//ChamberMaster//Event Calendar 2.0//EN
METHOD:PUBLISH
X-PUBLISHED-TTL:P3D
REFRESH-INTERVAL:P3D
CALSCALE:GREGORIAN
BEGIN:VEVENT
DTSTART:20220917T123000Z
DTEND:20220917T183000Z
X-MICROSOFT-CDO-ALLDAYEVENT:FALSE
SUMMARY:Middletown Town-Wide Tag Sale
DESCRIPTION:Middletown's 10th Annual Town-Wide Tag Sale\, sponsored by the Church of the Holy Trinity\, will be held on Saturday\, September 17th from 8:30 a.m. - 2:30 p.m.\n\n\n\nClean out those closets\, basements\, garages and attics and hold a tag sale at your home\, or donate to Holy Trinity's tag sale on the front lawn of the church. You may bring donations for the church tag sale to the church office during regular business hours of Friday\, September 16th from 10am-7pm.\n\n\n\nThe cost for an at-home tag sale is still only $20\, for which you will receive free advertising and tag-sale signs. All proceeds from the fees collected will go to help fund many of Holy Trinity's community outreach programs.\n\n\n\nTo register online or print a registration form\, go to holytrinityct.org/tag-sale. Registration forms are also available outside of the office door at Holy Trinity\, 381 Main St.\n\n\n\nCompleted registration and payments must be received by September 2nd to be listed on the tag sale map. Your tag sale location will be put on a free map that is handed out the week of the tag sale\, which will expose your sale to hundreds of potential shoppers. The tag sale is also advertised in several publications\, and you will receive signs to place in your neighborhood to direct shoppers to your sale.\n\n\n\nMaps are available the week of the tag sale online (holytrinityct.org/tag-sale) and at Holy Trinity\, 381 Main Street.\n\n\n\nFor more information\, visit holytrinityct.org/tag-sale. For questions\, email MiddletownTownWideTagSale@gmail.com or call the church office at 860-347-2591.
X-ALT-DESC;FMTTYPE=text/html:Middletown&#39\;s 10th Annual Town-Wide Tag Sale\, sponsored by the Church of the Holy Trinity\, will be held on Saturday\, September 17th from 8:30 a.m. - 2:30 p.m.<br />\n<br />\nClean out those closets\, basements\, garages and attics and hold a tag sale at your home\, or donate to Holy Trinity&#39\;s tag sale on the front lawn of the church. You may bring donations for the church tag sale to the church office during regular business hours of Friday\, September 16th from 10am-7pm.<br />\n<br />\nThe cost for an at-home tag sale is still only $20\, for which you will receive free advertising and tag-sale signs. All proceeds from the fees collected will go to help fund many of Holy Trinity&#39\;s community outreach programs.<br />\n<br />\nTo register online or print a registration form\, go to holytrinityct.org/tag-sale. Registration forms are also available outside of the office door at Holy Trinity\, 381 Main St.<br />\n<br />\nCompleted registration and payments must be received by September 2nd to be listed on the tag sale map. Your tag sale location will be put on a free map that is handed out the week of the tag sale\, which will expose your sale to hundreds of potential shoppers. The tag sale is also advertised in several publications\, and you will receive signs to place in your neighborhood to direct shoppers to your sale.<br />\n<br />\nMaps are available the week of the tag sale online (holytrinityct.org/tag-sale) and at Holy Trinity\, 381 Main Street.<br />\n<br />\nFor more information\, visit holytrinityct.org/tag-sale. For questions\, email MiddletownTownWideTagSale@gmail.com or call the church office at 860-347-2591.
LOCATION:Tag sales will be located at Holy Trinity Church\, 381 Main Street and around town. Maps will be available the week before the tag sale online (www.holytrinityct.org/tag-sale) or at Holy Trinity Church
UID:e.1932.23729
SEQUENCE:3
DTSTAMP:20260421T021145Z
URL:https://business.middlesexchamber.com/events/details/middletown-town-wide-tag-sale-09-17-2022-23729
END:VEVENT

END:VCALENDAR
