BEGIN:VCALENDAR
VERSION:2.0
PRODID:-//ChamberMaster//Event Calendar 2.0//EN
METHOD:PUBLISH
X-PUBLISHED-TTL:P3D
REFRESH-INTERVAL:P3D
CALSCALE:GREGORIAN
BEGIN:VEVENT
DTSTART:20260114T193000Z
DTEND:20260114T203000Z
X-MICROSOFT-CDO-ALLDAYEVENT:FALSE
SUMMARY:Middletown Prevention Council Monthly Meeting
DESCRIPTION:Middletown Prevention Council is creating a healthier community by preventing substance use before it starts. We partner with families\, schools\, and community members to provide the resources\, education\, and support our youth need to make healthy choices.
X-ALT-DESC;FMTTYPE=text/html:Middletown Prevention Council is creating a healthier community by preventing substance use before it starts. We partner with families\, schools\, and community members to provide the resources\, education\, and support our youth need to make healthy choices.
LOCATION:YMCA Hazen Room
UID:e.1932.34724
SEQUENCE:3
DTSTAMP:20260424T181939Z
URL:https://business.middlesexchamber.com/events/details/middletown-prevention-council-monthly-meeting-34724
END:VEVENT

END:VCALENDAR
