BEGIN:VCALENDAR
VERSION:2.0
PRODID:-//ChamberMaster//Event Calendar 2.0//EN
METHOD:PUBLISH
X-PUBLISHED-TTL:P3D
REFRESH-INTERVAL:P3D
CALSCALE:GREGORIAN
BEGIN:VEVENT
DTSTART:20220226T150000Z
DTEND:20220226T190000Z
X-MICROSOFT-CDO-ALLDAYEVENT:FALSE
SUMMARY:Middletown Penguin Plunge
DESCRIPTION:Take the plunge into icy waters to support more than 12\,000 athletes of all abilities who participate in the sports training and competitions Special Olympics Connecticut offers year-round.\n\n\n\nAll are invited to participate in the Plunge\, including individuals\, friends and families\, and teams representing schools\, businesses\, organizations and clubs.\n\n To join in the fun\, participants must be at least 8 years old and need to raise a minimum of $100. In addition to the awards for top fundraisers and best costume\, participants receive incentive prizes for their fundraising efforts. Spectators are welcome.\n\nWe will be offering both in-person & virtual Penguin Plunge options in 2022!
X-ALT-DESC;FMTTYPE=text/html:<p><span style="font-size:16px\;"><span style="font-family:arial\;">Take the plunge into icy waters to support more than 12\,000 athletes of all abilities who participate in the sports training and competitions Special Olympics Connecticut offers year-round.<br />\n<br />\nAll are invited to participate in the Plunge\, including individuals\, friends and families\, and teams representing schools\, businesses\, organizations and clubs.</span></span></p>\n\n<p><span style="font-size:16px\;"><span style="font-family:arial\;">&nbsp\;To join in the fun\, participants must be at least 8 years old and need to raise a minimum of $100. In addition to the awards for top fundraisers and best costume\, participants receive incentive prizes for their fundraising efforts. Spectators are welcome.</span></span></p>\n\n<p><span style="font-size:16px\;"><span style="font-family:arial\;">We will be offering both<strong>&nbsp\;in-person</strong>&nbsp\;&amp\;&nbsp\;<strong>virtual&nbsp\;</strong>Penguin Plunge options in 2022!</span></span></p>\n
LOCATION:Polish Falcons Nest #519
UID:e.1932.23158
SEQUENCE:3
DTSTAMP:20260423T095238Z
URL:https://business.middlesexchamber.com/events/details/middletown-penguin-plunge-02-26-2022-23158
END:VEVENT

END:VCALENDAR
