BEGIN:VCALENDAR
VERSION:2.0
PRODID:-//ChamberMaster//Event Calendar 2.0//EN
METHOD:PUBLISH
X-PUBLISHED-TTL:P3D
REFRESH-INTERVAL:P3D
CALSCALE:GREGORIAN
BEGIN:VEVENT
DTSTART;VALUE=DATE:20230225
DTEND;VALUE=DATE:20230226
TRANSP:TRANSPARENT
X-MICROSOFT-CDO-ALLDAYEVENT:TRUE
SUMMARY:Middletown Penguin Plunge
DESCRIPTION:Special Olympics Connecticut is pleased to announce dates for its upcoming Penguin Plunge events and invites all to register for the Middletown Penguin Plunge\, at www.soct.org/plunge.\n\n\n\nParticipants in the Plunge will jump into the chilly waters of a lake or Long Island Sound to support the organization's year-round sports\, health and fitness programs for athletes around the state and help create communities that accept and include people of all abilities. To find out more\, visit soct.org\, email specialolympicsct@soct.org or call 203-230-1201. And\, follow Special Olympics Connecticut on Facebook\, Twitter and Instagram.\n\n \n\nThe Middletown Penguin Plunge is hosted by members of the Polish Falcons Club. This Plunge will be held at the Polish Falcons Nest #519\, located at 144 Prout Hill Road\, Middletown\, on Saturday\, February 25th. Check-in will begin at 10 a.m. and the Plunge will take place at noon.\n\n\n\nParticipants must be at least eight years old and register for $25. We ask that you also raise an additional $75 to total $100 to plunge! Pre-registration is strongly encouraged and may be done online at www.soct.org/plunge. \n\n\n\nAdditional Plunge events scheduled include the:\n\nMiddletown Penguin Plunge at the Polish Falcons Club on Saturday\, February 25th   \n\nShoreline Penguin Plunge at Eastern Point Beach in Groton on Sunday\, March 5th \n\nBrookfield Penguin Plunge at Brookfield Town Park in Brookfield on Saturday\, March 18th \n\nTolland Penguin Plunge at Crandall Park in Tolland on Saturday\, March 25th \n\nPlunge at the Park at Wolfe Park in Monroe\, Saturday\, April 1st \n\nFairfield Penguin Plunge at Jennings Beach on Saturday\, April 15th   \n\n \n\nAbout Special Olympics Connecticut\n\nSpecial Olympics Connecticut provides year-round sports training and competitions for over 10\,000 athletes of all ages with intellectual disabilities and Unified Sports partners - their teammates without disabilities. Through the joy of sport\, the Special Olympics movement transforms lives and communities throughout the state and in 172 countries around the world by promoting good health and fitness and inspiring inclusion and respect for all people\, on and off the playing field.\n\n \n\nPartner Sponsors: Bozzuto's Inc.\, Enterprise\, ESPN\, Eversource Energy\, The Frederick A. DeLuca Foundation\, The Hometown Foundation\, Law Enforcement Torch Run\, NBC Connecticut and Telemundo Connecticut\, TD Bank\, Raytheon Technologies and WWE.\n\n \n\nYear-Round Suppliers: Adams Hometown Markets/IGA Hometown Supermarkets\, Coca-Cola Beverages Northeast\, Connecticut Portable Storage/PODS\, Marcus Communications\, N&D Sports\, State of Connecticut Judicial Branch Community Service and WORX
X-ALT-DESC;FMTTYPE=text/html:<br />\n<span style="color:black"><span style="font-family:calibri\,sans-serif">Special Olympics Connecticut is pleased to announce dates for its upcoming Penguin Plunge events and invites all to register for the Middletown Penguin Plunge\, at </span></span><strong><span style="font-family:calibri\,sans-serif"><a href="http://www.soct.org/plunge">www.soct.org/plunge</a></span></strong><span style="color:black"><span style="font-family:calibri\,sans-serif">.<br />\n<br />\nParticipants in the Plunge will jump into the chilly waters of a lake or Long Island Sound to support the organization&#39\;s year-round sports\, health and fitness programs for athletes around the state and help create communities that accept and include people of all abilities. To find out more\, visit soct.org\, email </span></span><span style="font-family:calibri\,sans-serif"><a href="mailto:specialolympicsct@soct.org">specialolympicsct@soct.org</a></span><span style="color:black"><span style="font-family:calibri\,sans-serif"> or call 203-230-1201. And\, follow Special Olympics Connecticut on Facebook\, Twitter and Instagram.</span></span><br />\n&nbsp\;<br />\n<span style="color:black"><span style="font-family:calibri\,sans-serif">The Middletown Penguin Plunge is hosted by members of the Polish Falcons Club. This Plunge will be held at the Polish Falcons Nest #519\, located at 144 Prout Hill Road\, Middletown\, on Saturday\, February 25<sup>th</sup>. Check-in will begin at 10 a.m. and the Plunge will take place at noon.<br />\n<br />\nParticipants must be at least eight years old and register for $25. We ask that you also raise an additional $75 to total $100 to plunge! Pre-registration is strongly encouraged and may be done online at&nbsp\;</span></span><strong><span style="font-family:calibri\,sans-serif"><a href="http://www.bit.ly/penguinplungesoct">www.soct.org/plunge</a></span></strong><span style="color:black"><span style="font-family:calibri\,sans-serif">. </span></span><br />\n<br />\n<span style="color:black"><span style="font-family:calibri\,sans-serif"><em>Additional Plunge events scheduled include the</em>:</span></span><br />\n<span style="color:#242424"><span style="font-family:calibri\,sans-serif">Middletown Penguin Plunge at the Polish Falcons Club on Saturday\, February 25<sup>th</sup></span> &nbsp\;&nbsp\;</span><br />\n<span style="color:#242424"><span style="font-family:calibri\,sans-serif">Shoreline Penguin Plunge at Eastern Point Beach in Groton on Sunday\, March 5<sup>th</sup></span> </span><br />\n<span style="color:#242424"><span style="font-family:calibri\,sans-serif">Brookfield Penguin Plunge at Brookfield Town Park in Brookfield on Saturday\, March 18<sup>th</sup></span> </span><br />\n<span style="color:#242424"><span style="font-family:calibri\,sans-serif">Tolland Penguin Plunge at Crandall Park in Tolland on Saturday\, March 25<sup>th</sup></span> </span><br />\n<span style="color:#242424"><span style="font-family:calibri\,sans-serif">Plunge at the Park at Wolfe Park in Monroe\, Saturday\, April 1<sup>st</sup> </span></span><br />\n<span style="color:#242424"><span style="font-family:calibri\,sans-serif">Fairfield Penguin Plunge at Jennings Beach on Saturday\, April 15<sup>th</sup></span> &nbsp\; </span><br />\n&nbsp\;<br />\n<strong><em><span style="color:#1D2129"><span style="font-family:calibri\,sans-serif">About Special Olympics Connecticut</span></span></em></strong><br />\n<span style="color:#1D2129"><span style="font-family:calibri\,sans-serif">Special Olympics Connecticut provides year-round sports training and competitions for over 10\,000 athletes of all ages with intellectual disabilities and Unified Sports partners - their teammates without disabilities. Through the joy of sport\, the Special Olympics movement transforms lives and communities throughout the state and in 172 countries around the world by promoting good health and fitness and inspiring inclusion and respect for all people\, on and off the playing field.</span></span><br />\n&nbsp\;<br />\n<strong><em><span style="color:#1D2129"><span style="font-family:calibri\,sans-serif">Partner Sponsors:&nbsp\;</span></span></em></strong><span style="color:#1D2129"><span style="font-family:calibri\,sans-serif">Bozzuto&#39\;s Inc.\, Enterprise\, ESPN\, Eversource Energy\, The Frederick A. DeLuca Foundation\, The Hometown Foundation\, Law Enforcement Torch Run\, NBC Connecticut and Telemundo Connecticut\, TD Bank\, Raytheon Technologies and WWE.</span></span><br />\n&nbsp\;<br />\n<strong><em><span style="color:#1D2129"><span style="font-family:calibri\,sans-serif">Year-Round Suppliers:</span></span></em></strong><span style="color:#1D2129"><span style="font-family:calibri\,sans-serif">&nbsp\;Adams Hometown Markets/IGA Hometown Supermarkets\, Coca-Cola Beverages Northeast\, Connecticut Portable Storage/PODS\, Marcus Communications\, N&amp\;D Sports\, State of Connecticut Judicial Branch Community Service and WORX</span></span>
LOCATION:Polish Falcons Club 144 Prout Hill Rd MIddletown\, CT
UID:e.1932.24782
SEQUENCE:3
DTSTAMP:20260420T181343Z
URL:https://business.middlesexchamber.com/events/details/middletown-penguin-plunge-02-25-2023-24782
END:VEVENT

END:VCALENDAR
