BEGIN:VCALENDAR
VERSION:2.0
PRODID:-//ChamberMaster//Event Calendar 2.0//EN
METHOD:PUBLISH
X-PUBLISHED-TTL:P3D
REFRESH-INTERVAL:P3D
CALSCALE:GREGORIAN
BEGIN:VEVENT
DTSTART:20211022T140000Z
DTEND:20211022T180000Z
X-MICROSOFT-CDO-ALLDAYEVENT:FALSE
SUMMARY:Middletown Farmers Market
DESCRIPTION:Middletown Farmers Market will be held on Fridays from June 18 - October 29 at Union Park on the South Green.
X-ALT-DESC;FMTTYPE=text/html:Middletown Farmers Market will be held on Fridays from June 18 - October 29 at Union Park on the South Green.
LOCATION:Union Park on the South Green Middletown\, CT
UID:e.1932.21756
SEQUENCE:3
DTSTAMP:20260421T100155Z
URL:https://business.middlesexchamber.com/events/details/middletown-farmers-market-10-22-2021-21756
END:VEVENT

END:VCALENDAR
