BEGIN:VCALENDAR
VERSION:2.0
PRODID:-//ChamberMaster//Event Calendar 2.0//EN
METHOD:PUBLISH
X-PUBLISHED-TTL:P3D
REFRESH-INTERVAL:P3D
CALSCALE:GREGORIAN
BEGIN:VEVENT
DTSTART:20211215T180000Z
DTEND:20211215T230000Z
X-MICROSOFT-CDO-ALLDAYEVENT:FALSE
SUMMARY:Middletown Elks Red Cross Blood Drive
DESCRIPTION:Please join us on Wednesday\, December 15th at the Middletown Elks Lodge from 1pm-6pm to donate blood.  We have several openings.\n\n\n\nWin THE MATRIX RESURRECTIONS screening\, $10 Amazon.com Gift Card!  Give 11/29-12/16: rcblood.org/win   Also\, please remember to fill out your rapid pass.\n\n\n\nThank you!!! Ursula G Sowinski (860)406-0298.
X-ALT-DESC;FMTTYPE=text/html:Please join us on Wednesday\, December 15th at the Middletown Elks Lodge from 1pm-6pm to donate blood.&nbsp\; We have several openings.<br />\n<br />\nWin THE MATRIX RESURRECTIONS screening\, $10 Amazon.com Gift Card!&nbsp\; Give 11/29-12/16: rcblood.org/win&nbsp\; &nbsp\;Also\, please remember to fill out your rapid pass.<br />\n<br />\nThank you!!! Ursula G Sowinski (860)406-0298.
LOCATION:Middletown Elks Lodge 44 Maynard Street\, Middletown\, CT 06457
UID:e.1932.22732
SEQUENCE:3
DTSTAMP:20260421T072947Z
URL:https://business.middlesexchamber.com/events/details/middletown-elks-red-cross-blood-drive-22732
END:VEVENT

END:VCALENDAR
