BEGIN:VCALENDAR
VERSION:2.0
PRODID:-//ChamberMaster//Event Calendar 2.0//EN
METHOD:PUBLISH
X-PUBLISHED-TTL:P3D
REFRESH-INTERVAL:P3D
CALSCALE:GREGORIAN
BEGIN:VEVENT
DTSTART:20220915T220000Z
DTEND:20220916T020000Z
X-MICROSOFT-CDO-ALLDAYEVENT:FALSE
SUMMARY:Middlesex Y Designer Handbag BINGO Palooza Fundraiser
DESCRIPTION:Event Registration is OPEN! Join us at our 2nd Annual Bingo Fundraising Event.\n\n\n\nEnjoy an evening out with friends while helping support the YMCA's Mission Strong Campaign to provide Financial Aid and Program Support for Children and their Families.\n\n\n\nKate Spade\, Michael Kors\, Dooney & Burke...check out the bags that could be yours!!! https://www.midymca.org/fall-fundraiser
X-ALT-DESC;FMTTYPE=text/html:<span style="background-color:rgb(255\, 255\, 255)\; color:rgb(5\, 5\, 5)\; font-family:segoe ui historic\,segoe ui\,helvetica\,arial\,sans-serif\; font-size:15px">Event Registration is OPEN! Join us at our 2nd Annual Bingo Fundraising Event.<br />\n<br />\nEnjoy an evening out with friends while helping support the YMCA&#39\;s Mission Strong Campaign to provide Financial Aid and Program Support for Children and their Families.<br />\n<br />\nKate Spade\, Michael Kors\, Dooney &amp\; Burke...check out the bags that could be yours!!! </span><span style="background-color:rgb(255\, 255\, 255)\; color:rgb(5\, 5\, 5)\; font-family:segoe ui historic\,segoe ui\,helvetica\,arial\,sans-serif\; font-size:15px"><a class="oajrlxb2 g5ia77u1 qu0x051f esr5mh6w e9989ue4 r7d6kgcz rq0escxv nhd2j8a9 nc684nl6 p7hjln8o kvgmc6g5 cxmmr5t8 oygrvhab hcukyx3x jb3vyjys rz4wbd8a qt6c0cv9 a8nywdso i1ao9s8h esuyzwwr f1sip0of lzcic4wl gpro0wi8 py34i1dx" href="https://www.midymca.org/fall-fundraiser?fbclid=IwAR2R30v5iD5FzwpO5TqIzABxySwH2dDUrsZCgUV2NPnXrLtkxubCYf1b3Pg" rel="nofollow noopener" style="cursor: pointer\; text-decoration-line: none\; outline: none\; list-style: none\; border-width: 0px\; border-style: initial\; border-color: initial\; padding: 0px\; margin: 0px\; touch-action: manipulation\; background-color: transparent\; text-align: inherit\; display: inline\; -webkit-tap-highlight-color: transparent\; box-sizing: border-box\; font-family: inherit\;" tabindex="0" target="_blank">https://www.midymca.org/fall-fundraiser</a></span>
LOCATION:Middlesex YMCA Ingersoll Outdoor Center 94 Camp Ingersoll Road Portland CT
UID:e.1932.23891
SEQUENCE:3
DTSTAMP:20260421T004935Z
URL:https://business.middlesexchamber.com/events/details/middlesex-y-designer-handbag-bingo-palooza-fundraiser-23891
END:VEVENT

END:VCALENDAR
