BEGIN:VCALENDAR
VERSION:2.0
PRODID:-//ChamberMaster//Event Calendar 2.0//EN
METHOD:PUBLISH
X-PUBLISHED-TTL:P3D
REFRESH-INTERVAL:P3D
CALSCALE:GREGORIAN
BEGIN:VEVENT
DTSTART:20221025T213000Z
DTEND:20221026T000000Z
X-MICROSOFT-CDO-ALLDAYEVENT:FALSE
SUMMARY:Middlesex United Way- Paint & Sip Fundraiser
DESCRIPTION:Middlesex United Way's WOMEN UNITED presents a night of art\, wine\, and fun with friends to support women and children in Middlesex County.\n\n\n\nA $72 fee includes admission\, paint supplies\, snacks\, unlimited soda\, wine\, and water.
X-ALT-DESC;FMTTYPE=text/html:Middlesex United Way&#39\;s WOMEN UNITED presents a night of art\, wine\, and fun with friends to support women and children in Middlesex County.<br />\n<br />\nA $72 fee includes admission\, paint supplies\, snacks\, unlimited soda\, wine\, and water.&nbsp\;
LOCATION:Essex Paint and Sip 12 Main Street Essex\, CT 06426
UID:e.1932.24000
SEQUENCE:3
DTSTAMP:20260421T010552Z
URL:https://business.middlesexchamber.com/events/details/middlesex-united-way-paint-sip-fundraiser-24000
END:VEVENT

END:VCALENDAR
