BEGIN:VCALENDAR
VERSION:2.0
PRODID:-//ChamberMaster//Event Calendar 2.0//EN
METHOD:PUBLISH
X-PUBLISHED-TTL:P3D
REFRESH-INTERVAL:P3D
CALSCALE:GREGORIAN
BEGIN:VEVENT
DTSTART:20230126T130000Z
DTEND:20230126T150000Z
X-MICROSOFT-CDO-ALLDAYEVENT:FALSE
SUMMARY:Middlesex United Way- 2023 Annual Meeting
DESCRIPTION:Middlesex United Way will host its Annual Meeting on Thursday\, January 26\, 2023. The meeting will celebrate the successes of the past year and look ahead at what's next for the nonprofit in 2023. A number of community members who go above and beyond each and every day will be honored at the event!\n\nTickets are $30 and can be purchased at the following link: MUWAMTG2023.eventbrite.com
X-ALT-DESC;FMTTYPE=text/html:Middlesex United Way will host its Annual Meeting on Thursday\, January 26\, 2023. The meeting will&nbsp\;celebrate the successes of the past year and look ahead at what&#39\;s next for the nonprofit&nbsp\;in 2023. A number of community members who go above and beyond each and every day will be honored at the event!<br />\nTickets are $30 and can be purchased at the following link:&nbsp\;MUWAMTG2023.eventbrite.com
LOCATION:Middletown Elks Lodge 44 Maynard Street Middletown\, CT 06457
UID:e.1932.24750
SEQUENCE:3
DTSTAMP:20260420T205154Z
URL:https://business.middlesexchamber.com/events/details/middlesex-united-way-2023-annual-meeting-24750
END:VEVENT

END:VCALENDAR
