BEGIN:VCALENDAR
VERSION:2.0
PRODID:-//ChamberMaster//Event Calendar 2.0//EN
METHOD:PUBLISH
X-PUBLISHED-TTL:P3D
REFRESH-INTERVAL:P3D
CALSCALE:GREGORIAN
BEGIN:VEVENT
DTSTART:20240125T124500Z
DTEND:20240125T143000Z
X-MICROSOFT-CDO-ALLDAYEVENT:FALSE
SUMMARY:Middlesex United Way- 2023 Annual Meeting
DESCRIPTION:Please save the date for our 2023 Annual Meeting.\n\n\n\nIt will be held at the Middletown Elks Lodge on Thursday\, January 25\, 2024.\n\n\n\nBreakfast will be served at 7:30 a.m. and our program will follow at 8:00 a.m.\n\n\n\nPlease reach out with any questions: 860-346-8695.
X-ALT-DESC;FMTTYPE=text/html:<span style="font-size:18px\;"><span style="font-family:arial\;">Please save the date for our 2023 Annual Meeting.<br />\n<br />\nIt will be held at the Middletown Elks Lodge on Thursday\, January 25\, 2024.<br />\n<br />\nBreakfast will be served at 7:30 a.m. and our program will follow at 8:00 a.m.<br />\n<br />\nPlease reach out with any questions: 860-346-8695.</span></span>
LOCATION:Middletown Elks Lodge 771 44 Maynard Street Middletown\, CT 06457
UID:e.1932.28626
SEQUENCE:3
DTSTAMP:20260420T024034Z
URL:https://business.middlesexchamber.com/events/details/middlesex-united-way-2023-annual-meeting-01-25-2024-28626
END:VEVENT

END:VCALENDAR
