BEGIN:VCALENDAR
VERSION:2.0
PRODID:-//ChamberMaster//Event Calendar 2.0//EN
METHOD:PUBLISH
X-PUBLISHED-TTL:P3D
REFRESH-INTERVAL:P3D
CALSCALE:GREGORIAN
BEGIN:VEVENT
DTSTART:20251015T133000Z
DTEND:20251015T143000Z
X-MICROSOFT-CDO-ALLDAYEVENT:FALSE
SUMMARY:Middlesex County Revitalization Commission (MCRC)
DESCRIPTION:Connecticut Special Act 93-36 established the Middlesex County Revitalization Commission in 1993 to coordinate the efforts of revitalizing the manufacturing\, business\, and commercial districts of Middlesex County towns\, and assist the cities and towns in developing and implementing ongoing economic development activities.\n\n \n\nConsisting of the chief executive official\, or their representative\, from each of the 15 cities and towns in Middlesex County\, the Commission also includes a representative of the Middlesex County Chamber of Commerce\, as well as an appointed Administrator.\n\n \n\nIn addition to loans\, grants\, and other financial assistance programs\, the Commission works collaboratively with member towns on a broad range of economic development services and resources.
X-ALT-DESC;FMTTYPE=text/html:Connecticut Special Act 93-36 established the Middlesex County Revitalization Commission in 1993 to coordinate the efforts of revitalizing the manufacturing\, business\, and commercial districts of Middlesex County towns\, and assist the cities and towns in developing and implementing ongoing economic development activities.<br />\n&nbsp\;<br />\nConsisting of the chief executive official\, or their representative\, from each of the 15 cities and towns in Middlesex County\, the Commission also includes a representative of the Middlesex County Chamber of Commerce\, as well as an appointed Administrator.<br />\n&nbsp\;<br />\nIn addition to loans\, grants\, and other financial assistance programs\, the Commission works collaboratively with member towns on a broad range of economic development services and resources.<br />\n&nbsp\;
LOCATION:Meeting held via Zoom.
UID:e.1932.30485
SEQUENCE:3
DTSTAMP:20260424T212849Z
URL:https://business.middlesexchamber.com/events/details/middlesex-county-revitalization-commission-mcrc-30485
END:VEVENT

END:VCALENDAR
