BEGIN:VCALENDAR
VERSION:2.0
PRODID:-//ChamberMaster//Event Calendar 2.0//EN
METHOD:PUBLISH
X-PUBLISHED-TTL:P3D
REFRESH-INTERVAL:P3D
CALSCALE:GREGORIAN
BEGIN:VEVENT
DTSTART:20111018T130000Z
DTEND:20111018T143000Z
X-MICROSOFT-CDO-ALLDAYEVENT:FALSE
SUMMARY:Middlesex County Revitalization Commission
DESCRIPTION:Meeting Notice
X-ALT-DESC;FMTTYPE=text/html:<html>\n<head>\n</head>\n<body>\n    <p align="center">\n        <a href="http://MiddlesexCountyCTCOC.weblinkconnect.com/External/WCPages/WCWebContent/WebContentPage.aspx?ContentID=1139"><FONT style="FONT-SIZE: 20px">Meeting Notice</font></a>\n    </p>\n</body>\n</html>\n
LOCATION:La Vita Gustosa9 Main St. PO Box 454East Haddam\, CT 06423
UID:e.1932.523
SEQUENCE:3
DTSTAMP:20260421T140238Z
URL:https://business.middlesexchamber.com/events/details/middlesex-county-revitalization-commission-10-18-2011-523
END:VEVENT

END:VCALENDAR
