BEGIN:VCALENDAR
VERSION:2.0
PRODID:-//ChamberMaster//Event Calendar 2.0//EN
METHOD:PUBLISH
X-PUBLISHED-TTL:P3D
REFRESH-INTERVAL:P3D
CALSCALE:GREGORIAN
BEGIN:VEVENT
DTSTART:20110719T130000Z
DTEND:20110719T143000Z
X-MICROSOFT-CDO-ALLDAYEVENT:FALSE
SUMMARY:Middlesex County Revitalization Commission
DESCRIPTION:Meeting Notice\n    \n    \n        Quarterly business meeting of the Middlesex County Revitalization Commission
X-ALT-DESC;FMTTYPE=text/html:<html>\n<head>\n</head>\n<body>\n    <p align="center">\n        <a href="http://MiddlesexCountyCTCOC.weblinkconnect.com/External/WCPages/WCWebContent/WebContentPage.aspx?ContentID=1139"><strong><font size="5" face="Arial">Meeting Notice</font></strong></a>\n    </p>\n    <p>\n        Quarterly business meeting of the Middlesex County Revitalization Commission\n    </p>\n</body>\n</html>\n
LOCATION:
UID:e.1932.522
SEQUENCE:3
DTSTAMP:20260421T212915Z
URL:https://business.middlesexchamber.com/events/details/middlesex-county-revitalization-commission-07-19-2011-522
END:VEVENT

END:VCALENDAR
