BEGIN:VCALENDAR
VERSION:2.0
PRODID:-//ChamberMaster//Event Calendar 2.0//EN
METHOD:PUBLISH
X-PUBLISHED-TTL:P3D
REFRESH-INTERVAL:P3D
CALSCALE:GREGORIAN
BEGIN:VEVENT
DTSTART:20230419T133000Z
DTEND:20230419T143000Z
X-MICROSOFT-CDO-ALLDAYEVENT:FALSE
SUMMARY:Middlesex County Revitalization Commission
DESCRIPTION:The Middlesex County Revitalization Commission was created by a special act of the CT General Assembly in 1993\, with a mission to encourage and stimulate economic development in Middlesex County by providing low interest loans and/or matching grants to small and mid-sized businesses in the region.\n\n \n\nThe members of the Middlesex County Revitalization Commission (MCRC) are the chief elected official\, or a designee\, from each of the fifteen towns in Middlesex County\, plus a representative from the Middlesex County Chamber of Commerce.
X-ALT-DESC;FMTTYPE=text/html:The Middlesex County Revitalization Commission was created by a special act of the CT General Assembly in 1993\, with a mission to encourage and stimulate economic development in Middlesex County by providing low interest loans and/or matching grants to small and mid-sized businesses in the region.<br />\n&nbsp\;<br />\nThe members of the Middlesex County Revitalization Commission (MCRC) are the chief elected official\, or a designee\, from each of the fifteen towns in Middlesex County\, plus a representative from the Middlesex County Chamber of Commerce.
LOCATION:Meeting held via Zoom
UID:e.1932.24815
SEQUENCE:3
DTSTAMP:20260420T181211Z
URL:https://business.middlesexchamber.com/events/details/middlesex-county-revitalization-commission-04-19-2023-24815
END:VEVENT

END:VCALENDAR
