BEGIN:VCALENDAR
VERSION:2.0
PRODID:-//ChamberMaster//Event Calendar 2.0//EN
METHOD:PUBLISH
X-PUBLISHED-TTL:P3D
REFRESH-INTERVAL:P3D
CALSCALE:GREGORIAN
BEGIN:VEVENT
DTSTART:20171011T150000Z
DTEND:20171011T183000Z
X-MICROSOFT-CDO-ALLDAYEVENT:FALSE
SUMMARY:Middlesex County Fall Career Fair 2017
DESCRIPTION:
X-ALT-DESC;FMTTYPE=text/html:
LOCATION:Radisson Hotel Cromwell 100 Berlin Road Cromwell\, CT
UID:e.1932.4549
SEQUENCE:3
DTSTAMP:20260424T234822Z
URL:https://business.middlesexchamber.com/events/details/middlesex-county-fall-career-fair-2017-4549
END:VEVENT

END:VCALENDAR
