BEGIN:VCALENDAR
VERSION:2.0
PRODID:-//ChamberMaster//Event Calendar 2.0//EN
METHOD:PUBLISH
X-PUBLISHED-TTL:P3D
REFRESH-INTERVAL:P3D
CALSCALE:GREGORIAN
BEGIN:VEVENT
DTSTART:20230910T210000Z
DTEND:20230910T230000Z
X-MICROSOFT-CDO-ALLDAYEVENT:FALSE
SUMMARY:Middlesex Chamber Killingworth Division Summer Concert Series
DESCRIPTION:
X-ALT-DESC;FMTTYPE=text/html:
LOCATION:Parmelee Farm 465 Route 81 Killingworth\, CT
UID:e.1932.25644
SEQUENCE:3
DTSTAMP:20260420T103913Z
URL:https://business.middlesexchamber.com/events/details/middlesex-chamber-killingworth-division-summer-concert-series-25644
END:VEVENT

END:VCALENDAR
