BEGIN:VCALENDAR
VERSION:2.0
PRODID:-//ChamberMaster//Event Calendar 2.0//EN
METHOD:PUBLISH
X-PUBLISHED-TTL:P3D
REFRESH-INTERVAL:P3D
CALSCALE:GREGORIAN
BEGIN:VEVENT
DTSTART:20230813T210000Z
DTEND:20230813T230000Z
X-MICROSOFT-CDO-ALLDAYEVENT:FALSE
SUMMARY:Middlesex Chamber Killingworth Division Summer Concert Series
DESCRIPTION:Dual Cello/ Violin Concert by local talent Mille and Randy Calistri-Yeh will feature Broadway songs\, traditional dance music from around the world\, and other selections of classical\, swing\, and classic rock music.  Randy will tell fascinating stories about the music. Family-friendly event\; bring your picnic basket\, blankets and chairs.\n\n\n\nA special thank you to Pequot Commercial for their sponsorship of this event!
X-ALT-DESC;FMTTYPE=text/html:Dual Cello/ Violin Concert by local talent Mille and Randy Calistri-Yeh will feature Broadway songs\, traditional dance music from around the world\, and other selections of classical\, swing\, and classic rock music.&nbsp\; Randy will tell fascinating stories about the music. Family-friendly event\; bring your picnic basket\, blankets and chairs.<br />\n<br />\nA special thank you to <a href="https://pequotcommercial.com/">Pequot Commercial </a>for their sponsorship of this event!&nbsp\;
LOCATION:Parmelee Farm 465 Route 81 Killingworth\, CT
UID:e.1932.25621
SEQUENCE:3
DTSTAMP:20260420T113433Z
URL:https://business.middlesexchamber.com/events/details/middlesex-chamber-killingworth-division-summer-concert-series-25621
END:VEVENT

END:VCALENDAR
